Back to Build/check report for BioC 3.14 experimental data
[A]BCDEFGHIJKLMNOPQRSTUVWXYZ

This page was generated on 2021-10-26 15:52:18 -0400 (Tue, 26 Oct 2021).

All results for package antiProfilesData

To the developers/maintainers of the antiProfilesData package:
Make sure to use the following settings in order to reproduce any error or warning you see on this page.

raw results

Package 16/408HostnameOS / ArchINSTALLBUILDCHECK
antiProfilesData 1.29.0  (landing page)
Hector Corrada Bravo
Snapshot Date: 2021-10-26 09:30:02 -0400 (Tue, 26 Oct 2021)
git_url: https://git.bioconductor.org/packages/antiProfilesData
git_branch: master
git_last_commit: 3c855ae
git_last_commit_date: 2021-05-19 11:40:04 -0400 (Wed, 19 May 2021)
nebbiolo2Linux (Ubuntu 20.04.2 LTS) / x86_64  OK    OK    OK  UNNEEDED, same version is already published