Back to Build/check report for BioC 3.14 experimental data
[A]BCDEFGHIJKLMNOPQRSTUVWXYZ

This page was generated on 2021-12-01 18:35:25 -0500 (Wed, 01 Dec 2021).

INSTALL results for alpineData on nebbiolo2

To the developers/maintainers of the alpineData package:
Make sure to use the following settings in order to reproduce any error or warning you see on this page.

raw results

Package 13/408HostnameOS / ArchINSTALLBUILDCHECK
alpineData 1.20.0  (landing page)
Michael Love
Snapshot Date: 2021-12-01 08:30:01 -0500 (Wed, 01 Dec 2021)
git_url: https://git.bioconductor.org/packages/alpineData
git_branch: RELEASE_3_14
git_last_commit: 3388cb1
git_last_commit_date: 2021-10-26 12:27:37 -0500 (Tue, 26 Oct 2021)
nebbiolo2Linux (Ubuntu 20.04.3 LTS) / x86_64  OK    OK    OK  UNNEEDED, same version is already published

Summary

Package: alpineData
Version: 1.20.0
Command: /home/biocbuild/bbs-3.14-bioc/R/bin/R CMD INSTALL alpineData
StartedAt: 2021-12-01 14:03:49 -0500 (Wed, 01 Dec 2021)
EndedAt: 2021-12-01 14:04:11 -0500 (Wed, 01 Dec 2021)
EllapsedTime: 21.7 seconds
RetCode: 0
Status:   OK  

Command output

##############################################################################
##############################################################################
###
### Running command:
###
###   /home/biocbuild/bbs-3.14-bioc/R/bin/R CMD INSTALL alpineData
###
##############################################################################
##############################################################################


* installing to library ‘/home/biocbuild/bbs-3.14-bioc/R/library’
* installing *source* package ‘alpineData’ ...
** using staged installation
** R
** inst
** byte-compile and prepare package for lazy loading
** help
*** installing help indices
** building package indices
** installing vignettes
** testing if installed package can be loaded from temporary location
** testing if installed package can be loaded from final location
** testing if installed package keeps a record of temporary installation path
* DONE (alpineData)