Back to Build/check report for BioC 3.14 experimental data
[A]BCDEFGHIJKLMNOPQRSTUVWXYZ

This page was generated on 2021-11-24 18:35:26 -0500 (Wed, 24 Nov 2021).

INSTALL results for airway on nebbiolo2

To the developers/maintainers of the airway package:
Make sure to use the following settings in order to reproduce any error or warning you see on this page.

raw results

Package 10/408HostnameOS / ArchINSTALLBUILDCHECK
airway 1.14.0  (landing page)
Michael Love
Snapshot Date: 2021-11-24 08:30:01 -0500 (Wed, 24 Nov 2021)
git_url: https://git.bioconductor.org/packages/airway
git_branch: RELEASE_3_14
git_last_commit: 703e387
git_last_commit_date: 2021-10-26 12:10:05 -0500 (Tue, 26 Oct 2021)
nebbiolo2Linux (Ubuntu 20.04.3 LTS) / x86_64  OK    OK    WARNINGS  UNNEEDED, same version is already published

Summary

Package: airway
Version: 1.14.0
Command: /home/biocbuild/bbs-3.14-bioc/R/bin/R CMD INSTALL airway
StartedAt: 2021-11-24 14:01:45 -0500 (Wed, 24 Nov 2021)
EndedAt: 2021-11-24 14:01:56 -0500 (Wed, 24 Nov 2021)
EllapsedTime: 10.6 seconds
RetCode: 0
Status:   OK  

Command output

##############################################################################
##############################################################################
###
### Running command:
###
###   /home/biocbuild/bbs-3.14-bioc/R/bin/R CMD INSTALL airway
###
##############################################################################
##############################################################################


* installing to library ‘/home/biocbuild/bbs-3.14-bioc/R/library’
* installing *source* package ‘airway’ ...
** using staged installation
** data
** inst
** help
*** installing help indices
** building package indices
** installing vignettes
** testing if installed package can be loaded from temporary location
** testing if installed package can be loaded from final location
** testing if installed package keeps a record of temporary installation path
* DONE (airway)