Back to Build/check report for BioC 3.14 experimental data
[A]BCDEFGHIJKLMNOPQRSTUVWXYZ

This page was generated on 2021-10-23 15:51:46 -0400 (Sat, 23 Oct 2021).

All results for package affycompData

To the developers/maintainers of the affycompData package:
Make sure to use the following settings in order to reproduce any error or warning you see on this page.

raw results

Package 3/408HostnameOS / ArchINSTALLBUILDCHECK
affycompData 1.31.0  (landing page)
Harris Jaffee
Snapshot Date: 2021-10-23 09:30:01 -0400 (Sat, 23 Oct 2021)
git_url: https://git.bioconductor.org/packages/affycompData
git_branch: master
git_last_commit: fec4b2d
git_last_commit_date: 2021-05-19 11:31:18 -0400 (Wed, 19 May 2021)
nebbiolo2Linux (Ubuntu 20.04.2 LTS) / x86_64  OK    OK    OK  UNNEEDED, same version is already published