Back to Build/check report for BioC 3.14 experimental data
[A]BCDEFGHIJKLMNOPQRSTUVWXYZ

This page was generated on 2021-10-16 15:51:45 -0400 (Sat, 16 Oct 2021).

INSTALL results for adductData on nebbiolo2

To the developers/maintainers of the adductData package:
Make sure to use the following settings in order to reproduce any error or warning you see on this page.

raw results

Package 2/404HostnameOS / ArchINSTALLBUILDCHECK
adductData 1.9.0  (landing page)
Josie Hayes
Snapshot Date: 2021-10-16 09:30:02 -0400 (Sat, 16 Oct 2021)
git_url: https://git.bioconductor.org/packages/adductData
git_branch: master
git_last_commit: 0cbdf54
git_last_commit_date: 2021-05-19 12:07:26 -0400 (Wed, 19 May 2021)
nebbiolo2Linux (Ubuntu 20.04.2 LTS) / x86_64  OK    OK    OK  UNNEEDED, same version is already published

Summary

Package: adductData
Version: 1.9.0
Command: /home/biocbuild/bbs-3.14-bioc/R/bin/R CMD INSTALL adductData
StartedAt: 2021-10-16 11:03:27 -0400 (Sat, 16 Oct 2021)
EndedAt: 2021-10-16 11:03:35 -0400 (Sat, 16 Oct 2021)
EllapsedTime: 7.7 seconds
RetCode: 0
Status:   OK  

Command output

##############################################################################
##############################################################################
###
### Running command:
###
###   /home/biocbuild/bbs-3.14-bioc/R/bin/R CMD INSTALL adductData
###
##############################################################################
##############################################################################


* installing to library ‘/home/biocbuild/bbs-3.14-bioc/R/library’
* installing *source* package ‘adductData’ ...
** using staged installation
** inst
** help
*** installing help indices
** building package indices
** installing vignettes
** testing if installed package can be loaded from temporary location
** testing if installed package can be loaded from final location
** testing if installed package keeps a record of temporary installation path
* DONE (adductData)