Back to Build/check report for BioC 3.14 experimental data
ABCDEFGHIJKLMNOPQRSTU[V]WXYZ

This page was generated on 2021-11-24 18:35:27 -0500 (Wed, 24 Nov 2021).

BUILD results for VariantToolsData on nebbiolo2

To the developers/maintainers of the VariantToolsData package:
Make sure to use the following settings in order to reproduce any error or warning you see on this page.

raw results

Package 398/408HostnameOS / ArchINSTALLBUILDCHECK
VariantToolsData 1.18.0  (landing page)
Michael Lawrence
Snapshot Date: 2021-11-24 08:30:01 -0500 (Wed, 24 Nov 2021)
git_url: https://git.bioconductor.org/packages/VariantToolsData
git_branch: RELEASE_3_14
git_last_commit: 035ff5a
git_last_commit_date: 2021-10-26 12:28:44 -0500 (Tue, 26 Oct 2021)
nebbiolo2Linux (Ubuntu 20.04.3 LTS) / x86_64  OK    OK    WARNINGS  UNNEEDED, same version is already published

Summary

Package: VariantToolsData
Version: 1.18.0
Command: /home/biocbuild/bbs-3.14-bioc/R/bin/R CMD build --keep-empty-dirs --no-resave-data VariantToolsData
StartedAt: 2021-11-24 14:51:19 -0500 (Wed, 24 Nov 2021)
EndedAt: 2021-11-24 14:51:57 -0500 (Wed, 24 Nov 2021)
EllapsedTime: 38.7 seconds
RetCode: 0
Status:   OK  
PackageFile: VariantToolsData_1.18.0.tar.gz
PackageFileSize: 201.6 MiB

Command output

##############################################################################
##############################################################################
###
### Running command:
###
###   /home/biocbuild/bbs-3.14-bioc/R/bin/R CMD build --keep-empty-dirs --no-resave-data VariantToolsData
###
##############################################################################
##############################################################################


* checking for file ‘VariantToolsData/DESCRIPTION’ ... OK
* preparing ‘VariantToolsData’:
* checking DESCRIPTION meta-information ... OK
* installing the package to build vignettes
* creating vignettes ... OK
* checking for LF line-endings in source and make files and shell scripts
* checking for empty or unneeded directories
* looking to see if a ‘data/datalist’ file should be added
* building ‘VariantToolsData_1.18.0.tar.gz’