Back to Build/check report for BioC 3.14 experimental data
ABCDEFGHIJKLMNOPQRS[T]UVWXYZ

This page was generated on 2021-10-26 15:52:19 -0400 (Tue, 26 Oct 2021).

INSTALL results for TimerQuant on nebbiolo2

To the developers/maintainers of the TimerQuant package:
Make sure to use the following settings in order to reproduce any error or warning you see on this page.

raw results

Package 388/408HostnameOS / ArchINSTALLBUILDCHECK
TimerQuant 1.23.0  (landing page)
Joseph Barry
Snapshot Date: 2021-10-26 09:30:02 -0400 (Tue, 26 Oct 2021)
git_url: https://git.bioconductor.org/packages/TimerQuant
git_branch: master
git_last_commit: 32f962d
git_last_commit_date: 2021-05-19 11:52:59 -0400 (Wed, 19 May 2021)
nebbiolo2Linux (Ubuntu 20.04.2 LTS) / x86_64  OK    OK    OK  UNNEEDED, same version is already published

Summary

Package: TimerQuant
Version: 1.23.0
Command: /home/biocbuild/bbs-3.14-bioc/R/bin/R CMD INSTALL TimerQuant
StartedAt: 2021-10-26 11:06:30 -0400 (Tue, 26 Oct 2021)
EndedAt: 2021-10-26 11:06:33 -0400 (Tue, 26 Oct 2021)
EllapsedTime: 3.4 seconds
RetCode: 0
Status:   OK  

Command output

##############################################################################
##############################################################################
###
### Running command:
###
###   /home/biocbuild/bbs-3.14-bioc/R/bin/R CMD INSTALL TimerQuant
###
##############################################################################
##############################################################################


* installing to library ‘/home/biocbuild/bbs-3.14-bioc/R/library’
* installing *source* package ‘TimerQuant’ ...
** using staged installation
** R
** data
** inst
** byte-compile and prepare package for lazy loading
** help
*** installing help indices
** building package indices
** installing vignettes
** testing if installed package can be loaded from temporary location
** testing if installed package can be loaded from final location
** testing if installed package keeps a record of temporary installation path
* DONE (TimerQuant)