Back to Build/check report for BioC 3.14 experimental data
ABCDEFGHIJKLMNOPQRS[T]UVWXYZ

This page was generated on 2021-10-23 15:51:47 -0400 (Sat, 23 Oct 2021).

BUILD results for TargetSearchData on nebbiolo2

To the developers/maintainers of the TargetSearchData package:
Make sure to use the following settings in order to reproduce any error or warning you see on this page.

raw results

Package 374/408HostnameOS / ArchINSTALLBUILDCHECK
TargetSearchData 1.31.0  (landing page)
Alvaro Cuadros-Inostroza
Snapshot Date: 2021-10-23 09:30:01 -0400 (Sat, 23 Oct 2021)
git_url: https://git.bioconductor.org/packages/TargetSearchData
git_branch: master
git_last_commit: 5d33831
git_last_commit_date: 2021-05-19 11:30:03 -0400 (Wed, 19 May 2021)
nebbiolo2Linux (Ubuntu 20.04.2 LTS) / x86_64  OK    OK    OK  UNNEEDED, same version is already published

Summary

Package: TargetSearchData
Version: 1.31.0
Command: /home/biocbuild/bbs-3.14-bioc/R/bin/R CMD build --keep-empty-dirs --no-resave-data TargetSearchData
StartedAt: 2021-10-23 11:38:17 -0400 (Sat, 23 Oct 2021)
EndedAt: 2021-10-23 11:38:40 -0400 (Sat, 23 Oct 2021)
EllapsedTime: 22.6 seconds
RetCode: 0
Status:   OK  
PackageFile: TargetSearchData_1.31.0.tar.gz
PackageFileSize: 29.79 MiB

Command output

##############################################################################
##############################################################################
###
### Running command:
###
###   /home/biocbuild/bbs-3.14-bioc/R/bin/R CMD build --keep-empty-dirs --no-resave-data TargetSearchData
###
##############################################################################
##############################################################################


* checking for file ‘TargetSearchData/DESCRIPTION’ ... OK
* preparing ‘TargetSearchData’:
* checking DESCRIPTION meta-information ... OK
* installing the package to process help pages
* saving partial Rd database
* checking for LF line-endings in source and make files and shell scripts
* checking for empty or unneeded directories
* building ‘TargetSearchData_1.31.0.tar.gz’