Back to Build/check report for BioC 3.14 experimental data
ABCDEFGHIJKLMNOPQRS[T]UVWXYZ

This page was generated on 2021-11-24 18:35:27 -0500 (Wed, 24 Nov 2021).

BUILD results for TargetScoreData on nebbiolo2

To the developers/maintainers of the TargetScoreData package:
Make sure to use the following settings in order to reproduce any error or warning you see on this page.

raw results

Package 373/408HostnameOS / ArchINSTALLBUILDCHECK
TargetScoreData 1.30.0  (landing page)
Yue Li
Snapshot Date: 2021-11-24 08:30:01 -0500 (Wed, 24 Nov 2021)
git_url: https://git.bioconductor.org/packages/TargetScoreData
git_branch: RELEASE_3_14
git_last_commit: ae5aa45
git_last_commit_date: 2021-10-26 12:03:42 -0500 (Tue, 26 Oct 2021)
nebbiolo2Linux (Ubuntu 20.04.3 LTS) / x86_64  OK    OK    OK  UNNEEDED, same version is already published

Summary

Package: TargetScoreData
Version: 1.30.0
Command: /home/biocbuild/bbs-3.14-bioc/R/bin/R CMD build --keep-empty-dirs --no-resave-data TargetScoreData
StartedAt: 2021-11-24 14:48:38 -0500 (Wed, 24 Nov 2021)
EndedAt: 2021-11-24 14:49:09 -0500 (Wed, 24 Nov 2021)
EllapsedTime: 30.3 seconds
RetCode: 0
Status:   OK  
PackageFile: TargetScoreData_1.30.0.tar.gz
PackageFileSize: 206.2 MiB

Command output

##############################################################################
##############################################################################
###
### Running command:
###
###   /home/biocbuild/bbs-3.14-bioc/R/bin/R CMD build --keep-empty-dirs --no-resave-data TargetScoreData
###
##############################################################################
##############################################################################


* checking for file ‘TargetScoreData/DESCRIPTION’ ... OK
* preparing ‘TargetScoreData’:
* checking DESCRIPTION meta-information ... OK
* installing the package to build vignettes
* creating vignettes ... OK
* checking for LF line-endings in source and make files and shell scripts
* checking for empty or unneeded directories
* building ‘TargetScoreData_1.30.0.tar.gz’