Back to Build/check report for BioC 3.14 experimental data
ABCDEFGHIJKLMNOPQRS[T]UVWXYZ

This page was generated on 2021-10-26 15:52:19 -0400 (Tue, 26 Oct 2021).

INSTALL results for TabulaMurisSenisData on nebbiolo2

To the developers/maintainers of the TabulaMurisSenisData package:
Make sure to use the following settings in order to reproduce any error or warning you see on this page.

raw results

Package 372/408HostnameOS / ArchINSTALLBUILDCHECK
TabulaMurisSenisData 0.99.1  (landing page)
Charlotte Soneson
Snapshot Date: 2021-10-26 09:30:02 -0400 (Tue, 26 Oct 2021)
git_url: https://git.bioconductor.org/packages/TabulaMurisSenisData
git_branch: master
git_last_commit: aa2b174
git_last_commit_date: 2021-07-27 06:34:50 -0400 (Tue, 27 Jul 2021)
nebbiolo2Linux (Ubuntu 20.04.2 LTS) / x86_64  OK    OK    OK  UNNEEDED, same version is already published

Summary

Package: TabulaMurisSenisData
Version: 0.99.1
Command: /home/biocbuild/bbs-3.14-bioc/R/bin/R CMD INSTALL TabulaMurisSenisData
StartedAt: 2021-10-26 11:03:41 -0400 (Tue, 26 Oct 2021)
EndedAt: 2021-10-26 11:04:03 -0400 (Tue, 26 Oct 2021)
EllapsedTime: 21.3 seconds
RetCode: 0
Status:   OK  

Command output

##############################################################################
##############################################################################
###
### Running command:
###
###   /home/biocbuild/bbs-3.14-bioc/R/bin/R CMD INSTALL TabulaMurisSenisData
###
##############################################################################
##############################################################################


* installing to library ‘/home/biocbuild/bbs-3.14-bioc/R/library’
* installing *source* package ‘TabulaMurisSenisData’ ...
** using staged installation
** R
** inst
** byte-compile and prepare package for lazy loading
** help
*** installing help indices
** building package indices
** installing vignettes
** testing if installed package can be loaded from temporary location
** testing if installed package can be loaded from final location
** testing if installed package keeps a record of temporary installation path
* DONE (TabulaMurisSenisData)