Back to Build/check report for BioC 3.14 experimental data
ABCDEFGHIJKLMNOPQRS[T]UVWXYZ

This page was generated on 2021-10-23 15:51:47 -0400 (Sat, 23 Oct 2021).

BUILD results for TabulaMurisData on nebbiolo2

To the developers/maintainers of the TabulaMurisData package:
Make sure to use the following settings in order to reproduce any error or warning you see on this page.

raw results

Package 371/408HostnameOS / ArchINSTALLBUILDCHECK
TabulaMurisData 1.11.0  (landing page)
Charlotte Soneson
Snapshot Date: 2021-10-23 09:30:01 -0400 (Sat, 23 Oct 2021)
git_url: https://git.bioconductor.org/packages/TabulaMurisData
git_branch: master
git_last_commit: b234e0c
git_last_commit_date: 2021-05-19 12:05:37 -0400 (Wed, 19 May 2021)
nebbiolo2Linux (Ubuntu 20.04.2 LTS) / x86_64  OK    OK    OK  UNNEEDED, same version is already published

Summary

Package: TabulaMurisData
Version: 1.11.0
Command: /home/biocbuild/bbs-3.14-bioc/R/bin/R CMD build --keep-empty-dirs --no-resave-data TabulaMurisData
StartedAt: 2021-10-23 11:37:45 -0400 (Sat, 23 Oct 2021)
EndedAt: 2021-10-23 11:38:51 -0400 (Sat, 23 Oct 2021)
EllapsedTime: 66.4 seconds
RetCode: 0
Status:   OK  
PackageFile: TabulaMurisData_1.11.0.tar.gz
PackageFileSize: 220.1 KiB

Command output

##############################################################################
##############################################################################
###
### Running command:
###
###   /home/biocbuild/bbs-3.14-bioc/R/bin/R CMD build --keep-empty-dirs --no-resave-data TabulaMurisData
###
##############################################################################
##############################################################################


* checking for file ‘TabulaMurisData/DESCRIPTION’ ... OK
* preparing ‘TabulaMurisData’:
* checking DESCRIPTION meta-information ... OK
* installing the package to build vignettes
* creating vignettes ... OK
* checking for LF line-endings in source and make files and shell scripts
* checking for empty or unneeded directories
Omitted ‘LazyData’ from DESCRIPTION
* building ‘TabulaMurisData_1.11.0.tar.gz’