Back to Build/check report for BioC 3.14 experimental data
ABCDEFGHIJKLMNOPQRS[T]UVWXYZ

This page was generated on 2021-10-26 15:52:19 -0400 (Tue, 26 Oct 2021).

BUILD results for TENxVisiumData on nebbiolo2

To the developers/maintainers of the TENxVisiumData package:
Make sure to use the following settings in order to reproduce any error or warning you see on this page.

raw results

Package 386/408HostnameOS / ArchINSTALLBUILDCHECK
TENxVisiumData 1.1.4  (landing page)
Helena L. Crowell
Snapshot Date: 2021-10-26 09:30:02 -0400 (Tue, 26 Oct 2021)
git_url: https://git.bioconductor.org/packages/TENxVisiumData
git_branch: master
git_last_commit: 8710d60
git_last_commit_date: 2021-10-20 09:01:08 -0400 (Wed, 20 Oct 2021)
nebbiolo2Linux (Ubuntu 20.04.2 LTS) / x86_64  OK    OK    OK  UNNEEDED, same version is already published

Summary

Package: TENxVisiumData
Version: 1.1.4
Command: /home/biocbuild/bbs-3.14-bioc/R/bin/R CMD build --keep-empty-dirs --no-resave-data TENxVisiumData
StartedAt: 2021-10-26 11:40:21 -0400 (Tue, 26 Oct 2021)
EndedAt: 2021-10-26 11:41:46 -0400 (Tue, 26 Oct 2021)
EllapsedTime: 85.0 seconds
RetCode: 0
Status:   OK  
PackageFile: TENxVisiumData_1.1.4.tar.gz
PackageFileSize: 284.9 KiB

Command output

##############################################################################
##############################################################################
###
### Running command:
###
###   /home/biocbuild/bbs-3.14-bioc/R/bin/R CMD build --keep-empty-dirs --no-resave-data TENxVisiumData
###
##############################################################################
##############################################################################


* checking for file ‘TENxVisiumData/DESCRIPTION’ ... OK
* preparing ‘TENxVisiumData’:
* checking DESCRIPTION meta-information ... OK
* installing the package to build vignettes
* creating vignettes ... OK
* checking for LF line-endings in source and make files and shell scripts
* checking for empty or unneeded directories
* building ‘TENxVisiumData_1.1.4.tar.gz’