Back to Build/check report for BioC 3.14 experimental data
ABCDEFGHIJKLMNOPQRS[T]UVWXYZ

This page was generated on 2021-10-23 15:51:47 -0400 (Sat, 23 Oct 2021).

BUILD results for TENxBrainData on nebbiolo2

To the developers/maintainers of the TENxBrainData package:
Make sure to use the following settings in order to reproduce any error or warning you see on this page.

raw results

Package 383/408HostnameOS / ArchINSTALLBUILDCHECK
TENxBrainData 1.13.1  (landing page)
Bioconductor Package Maintainer
Snapshot Date: 2021-10-23 09:30:01 -0400 (Sat, 23 Oct 2021)
git_url: https://git.bioconductor.org/packages/TENxBrainData
git_branch: master
git_last_commit: a0a79ee
git_last_commit_date: 2021-06-17 07:50:05 -0400 (Thu, 17 Jun 2021)
nebbiolo2Linux (Ubuntu 20.04.2 LTS) / x86_64  OK    OK    OK  UNNEEDED, same version is already published

Summary

Package: TENxBrainData
Version: 1.13.1
Command: /home/biocbuild/bbs-3.14-bioc/R/bin/R CMD build --keep-empty-dirs --no-resave-data TENxBrainData
StartedAt: 2021-10-23 11:38:49 -0400 (Sat, 23 Oct 2021)
EndedAt: 2021-10-23 11:40:37 -0400 (Sat, 23 Oct 2021)
EllapsedTime: 108.1 seconds
RetCode: 0
Status:   OK  
PackageFile: TENxBrainData_1.13.1.tar.gz
PackageFileSize: 341.7 KiB

Command output

##############################################################################
##############################################################################
###
### Running command:
###
###   /home/biocbuild/bbs-3.14-bioc/R/bin/R CMD build --keep-empty-dirs --no-resave-data TENxBrainData
###
##############################################################################
##############################################################################


* checking for file ‘TENxBrainData/DESCRIPTION’ ... OK
* preparing ‘TENxBrainData’:
* checking DESCRIPTION meta-information ... OK
* installing the package to build vignettes
* creating vignettes ... OK
* checking for LF line-endings in source and make files and shell scripts
* checking for empty or unneeded directories
* building ‘TENxBrainData_1.13.1.tar.gz’