Back to Build/check report for BioC 3.14 experimental data
ABCDEFGHIJKLMNOPQRS[T]UVWXYZ

This page was generated on 2021-10-16 15:51:45 -0400 (Sat, 16 Oct 2021).

All results for package TENxBrainData

To the developers/maintainers of the TENxBrainData package:
Make sure to use the following settings in order to reproduce any error or warning you see on this page.

raw results

Package 379/404HostnameOS / ArchINSTALLBUILDCHECK
TENxBrainData 1.13.1  (landing page)
Bioconductor Package Maintainer
Snapshot Date: 2021-10-16 09:30:02 -0400 (Sat, 16 Oct 2021)
git_url: https://git.bioconductor.org/packages/TENxBrainData
git_branch: master
git_last_commit: a0a79ee
git_last_commit_date: 2021-06-17 07:50:05 -0400 (Thu, 17 Jun 2021)
nebbiolo2Linux (Ubuntu 20.04.2 LTS) / x86_64  OK    OK    OK  UNNEEDED, same version is already published