Back to Build/check report for BioC 3.14 experimental data
ABCDEFGHIJKLMNOPQRS[T]UVWXYZ

This page was generated on 2021-10-26 15:52:19 -0400 (Tue, 26 Oct 2021).

BUILD results for TENxBUSData on nebbiolo2

To the developers/maintainers of the TENxBUSData package:
Make sure to use the following settings in order to reproduce any error or warning you see on this page.

raw results

Package 384/408HostnameOS / ArchINSTALLBUILDCHECK
TENxBUSData 1.7.0  (landing page)
Lambda Moses
Snapshot Date: 2021-10-26 09:30:02 -0400 (Tue, 26 Oct 2021)
git_url: https://git.bioconductor.org/packages/TENxBUSData
git_branch: master
git_last_commit: 24ac39e
git_last_commit_date: 2021-05-19 12:09:06 -0400 (Wed, 19 May 2021)
nebbiolo2Linux (Ubuntu 20.04.2 LTS) / x86_64  OK    OK    OK  UNNEEDED, same version is already published

Summary

Package: TENxBUSData
Version: 1.7.0
Command: /home/biocbuild/bbs-3.14-bioc/R/bin/R CMD build --keep-empty-dirs --no-resave-data TENxBUSData
StartedAt: 2021-10-26 11:40:14 -0400 (Tue, 26 Oct 2021)
EndedAt: 2021-10-26 11:41:03 -0400 (Tue, 26 Oct 2021)
EllapsedTime: 49.5 seconds
RetCode: 0
Status:   OK  
PackageFile: TENxBUSData_1.7.0.tar.gz
PackageFileSize: 221.2 KiB

Command output

##############################################################################
##############################################################################
###
### Running command:
###
###   /home/biocbuild/bbs-3.14-bioc/R/bin/R CMD build --keep-empty-dirs --no-resave-data TENxBUSData
###
##############################################################################
##############################################################################


* checking for file ‘TENxBUSData/DESCRIPTION’ ... OK
* preparing ‘TENxBUSData’:
* checking DESCRIPTION meta-information ... OK
* installing the package to build vignettes
* creating vignettes ... OK
* checking for LF line-endings in source and make files and shell scripts
* checking for empty or unneeded directories
* building ‘TENxBUSData_1.7.0.tar.gz’