Back to Build/check report for BioC 3.14 experimental data
ABCDEFGHIJKLMNOPQRS[T]UVWXYZ

This page was generated on 2021-10-21 15:52:04 -0400 (Thu, 21 Oct 2021).

BUILD results for TCGAcrcmiRNA on nebbiolo2

To the developers/maintainers of the TCGAcrcmiRNA package:
Make sure to use the following settings in order to reproduce any error or warning you see on this page.

raw results

Package 376/406HostnameOS / ArchINSTALLBUILDCHECK
TCGAcrcmiRNA 1.13.0  (landing page)
Claudio Isella
Snapshot Date: 2021-10-21 09:30:01 -0400 (Thu, 21 Oct 2021)
git_url: https://git.bioconductor.org/packages/TCGAcrcmiRNA
git_branch: master
git_last_commit: 69a2a14
git_last_commit_date: 2021-05-19 11:48:10 -0400 (Wed, 19 May 2021)
nebbiolo2Linux (Ubuntu 20.04.2 LTS) / x86_64  OK    OK    OK  UNNEEDED, same version is already published

Summary

Package: TCGAcrcmiRNA
Version: 1.13.0
Command: /home/biocbuild/bbs-3.14-bioc/R/bin/R CMD build --keep-empty-dirs --no-resave-data TCGAcrcmiRNA
StartedAt: 2021-10-21 11:38:02 -0400 (Thu, 21 Oct 2021)
EndedAt: 2021-10-21 11:38:06 -0400 (Thu, 21 Oct 2021)
EllapsedTime: 3.8 seconds
RetCode: 0
Status:   OK  
PackageFile: TCGAcrcmiRNA_1.13.0.tar.gz
PackageFileSize: 890.6 KiB

Command output

##############################################################################
##############################################################################
###
### Running command:
###
###   /home/biocbuild/bbs-3.14-bioc/R/bin/R CMD build --keep-empty-dirs --no-resave-data TCGAcrcmiRNA
###
##############################################################################
##############################################################################


* checking for file ‘TCGAcrcmiRNA/DESCRIPTION’ ... OK
* preparing ‘TCGAcrcmiRNA’:
* checking DESCRIPTION meta-information ... OK
* installing the package to build vignettes
* creating vignettes ... OK
* checking for LF line-endings in source and make files and shell scripts
* checking for empty or unneeded directories
* looking to see if a ‘data/datalist’ file should be added
* building ‘TCGAcrcmiRNA_1.13.0.tar.gz’