Back to Build/check report for BioC 3.14 experimental data
ABCDEFGHIJKLMNOPQRS[T]UVWXYZ

This page was generated on 2021-10-23 15:51:47 -0400 (Sat, 23 Oct 2021).

BUILD results for TCGAbiolinksGUI.data on nebbiolo2

To the developers/maintainers of the TCGAbiolinksGUI.data package:
Make sure to use the following settings in order to reproduce any error or warning you see on this page.

raw results

Package 377/408HostnameOS / ArchINSTALLBUILDCHECK
TCGAbiolinksGUI.data 1.13.1  (landing page)
Tiago Chedraoui Silva
Snapshot Date: 2021-10-23 09:30:01 -0400 (Sat, 23 Oct 2021)
git_url: https://git.bioconductor.org/packages/TCGAbiolinksGUI.data
git_branch: master
git_last_commit: 26325a2
git_last_commit_date: 2021-08-11 14:27:39 -0400 (Wed, 11 Aug 2021)
nebbiolo2Linux (Ubuntu 20.04.2 LTS) / x86_64  OK    OK    OK  UNNEEDED, same version is already published

Summary

Package: TCGAbiolinksGUI.data
Version: 1.13.1
Command: /home/biocbuild/bbs-3.14-bioc/R/bin/R CMD build --keep-empty-dirs --no-resave-data TCGAbiolinksGUI.data
StartedAt: 2021-10-23 11:38:37 -0400 (Sat, 23 Oct 2021)
EndedAt: 2021-10-23 11:39:01 -0400 (Sat, 23 Oct 2021)
EllapsedTime: 23.2 seconds
RetCode: 0
Status:   OK  
PackageFile: TCGAbiolinksGUI.data_1.13.1.tar.gz
PackageFileSize: 20.78 MiB

Command output

##############################################################################
##############################################################################
###
### Running command:
###
###   /home/biocbuild/bbs-3.14-bioc/R/bin/R CMD build --keep-empty-dirs --no-resave-data TCGAbiolinksGUI.data
###
##############################################################################
##############################################################################


* checking for file ‘TCGAbiolinksGUI.data/DESCRIPTION’ ... OK
* preparing ‘TCGAbiolinksGUI.data’:
* checking DESCRIPTION meta-information ... OK
* installing the package to build vignettes
* creating vignettes ... OK
* checking for LF line-endings in source and make files and shell scripts
* checking for empty or unneeded directories
* looking to see if a ‘data/datalist’ file should be added
* building ‘TCGAbiolinksGUI.data_1.13.1.tar.gz’