Back to Build/check report for BioC 3.14 experimental data
ABCDEFGHIJKLMNOPQRS[T]UVWXYZ

This page was generated on 2021-10-23 15:51:47 -0400 (Sat, 23 Oct 2021).

BUILD results for TCGAWorkflowData on nebbiolo2

To the developers/maintainers of the TCGAWorkflowData package:
Make sure to use the following settings in order to reproduce any error or warning you see on this page.

raw results

Package 382/408HostnameOS / ArchINSTALLBUILDCHECK
TCGAWorkflowData 1.17.0  (landing page)
Tiago Chedraoui Silva
Snapshot Date: 2021-10-23 09:30:01 -0400 (Sat, 23 Oct 2021)
git_url: https://git.bioconductor.org/packages/TCGAWorkflowData
git_branch: master
git_last_commit: fc1c1ba
git_last_commit_date: 2021-05-19 12:00:57 -0400 (Wed, 19 May 2021)
nebbiolo2Linux (Ubuntu 20.04.2 LTS) / x86_64  OK    OK    WARNINGS  UNNEEDED, same version is already published

Summary

Package: TCGAWorkflowData
Version: 1.17.0
Command: /home/biocbuild/bbs-3.14-bioc/R/bin/R CMD build --keep-empty-dirs --no-resave-data TCGAWorkflowData
StartedAt: 2021-10-23 11:38:44 -0400 (Sat, 23 Oct 2021)
EndedAt: 2021-10-23 11:40:49 -0400 (Sat, 23 Oct 2021)
EllapsedTime: 124.9 seconds
RetCode: 0
Status:   OK  
PackageFile: TCGAWorkflowData_1.17.0.tar.gz
PackageFileSize: 77.52 MiB

Command output

##############################################################################
##############################################################################
###
### Running command:
###
###   /home/biocbuild/bbs-3.14-bioc/R/bin/R CMD build --keep-empty-dirs --no-resave-data TCGAWorkflowData
###
##############################################################################
##############################################################################


* checking for file ‘TCGAWorkflowData/DESCRIPTION’ ... OK
* preparing ‘TCGAWorkflowData’:
* checking DESCRIPTION meta-information ... OK
* installing the package to build vignettes
* creating vignettes ... OK
* checking for LF line-endings in source and make files and shell scripts
* checking for empty or unneeded directories
* looking to see if a ‘data/datalist’ file should be added
  NB: this package now depends on R (>= 3.5.0)
  WARNING: Added dependency on R >= 3.5.0 because serialized objects in
  serialize/load version 3 cannot be read in older versions of R.
  File(s) containing such objects:
    ‘TCGAWorkflowData/data/CNV.hg19.bypos.111213.rda’
* building ‘TCGAWorkflowData_1.17.0.tar.gz’