Back to Build/check report for BioC 3.14 experimental data
ABCDEFGHIJKLMNOPQR[S]TUVWXYZ

This page was generated on 2021-12-01 18:35:25 -0500 (Wed, 01 Dec 2021).

INSTALL results for SpikeInSubset on nebbiolo2

To the developers/maintainers of the SpikeInSubset package:
Make sure to use the following settings in order to reproduce any error or warning you see on this page.

raw results

Package 363/408HostnameOS / ArchINSTALLBUILDCHECK
SpikeInSubset 1.34.0  (landing page)
Rafael A. Irizarry
Snapshot Date: 2021-12-01 08:30:01 -0500 (Wed, 01 Dec 2021)
git_url: https://git.bioconductor.org/packages/SpikeInSubset
git_branch: RELEASE_3_14
git_last_commit: 27fdb7d
git_last_commit_date: 2021-10-26 11:41:05 -0500 (Tue, 26 Oct 2021)
nebbiolo2Linux (Ubuntu 20.04.3 LTS) / x86_64  OK    OK    WARNINGS  UNNEEDED, same version is already published

Summary

Package: SpikeInSubset
Version: 1.34.0
Command: /home/biocbuild/bbs-3.14-bioc/R/bin/R CMD INSTALL SpikeInSubset
StartedAt: 2021-12-01 14:01:17 -0500 (Wed, 01 Dec 2021)
EndedAt: 2021-12-01 14:01:22 -0500 (Wed, 01 Dec 2021)
EllapsedTime: 4.2 seconds
RetCode: 0
Status:   OK  

Command output

##############################################################################
##############################################################################
###
### Running command:
###
###   /home/biocbuild/bbs-3.14-bioc/R/bin/R CMD INSTALL SpikeInSubset
###
##############################################################################
##############################################################################


* installing to library ‘/home/biocbuild/bbs-3.14-bioc/R/library’
* installing *source* package ‘SpikeInSubset’ ...
** using staged installation
** R
** data
** byte-compile and prepare package for lazy loading
** help
Warning: /home/biocbuild/bbs-3.14-data-experiment/meat/SpikeInSubset/man/xhyb.Rd: docType ‘instance’ is unrecognized
*** installing help indices
** building package indices
** testing if installed package can be loaded from temporary location
** testing if installed package can be loaded from final location
** testing if installed package keeps a record of temporary installation path
* DONE (SpikeInSubset)