Back to Build/check report for BioC 3.14 experimental data
ABCDEFGHIJKLMNOPQR[S]TUVWXYZ

This page was generated on 2021-12-01 18:35:25 -0500 (Wed, 01 Dec 2021).

BUILD results for SomaticCancerAlterations on nebbiolo2

To the developers/maintainers of the SomaticCancerAlterations package:
Make sure to use the following settings in order to reproduce any error or warning you see on this page.

raw results

Package 359/408HostnameOS / ArchINSTALLBUILDCHECK
SomaticCancerAlterations 1.30.0  (landing page)
Julian Gehring
Snapshot Date: 2021-12-01 08:30:01 -0500 (Wed, 01 Dec 2021)
git_url: https://git.bioconductor.org/packages/SomaticCancerAlterations
git_branch: RELEASE_3_14
git_last_commit: 90e2ed3
git_last_commit_date: 2021-10-26 12:05:05 -0500 (Tue, 26 Oct 2021)
nebbiolo2Linux (Ubuntu 20.04.3 LTS) / x86_64  OK    OK    OK  UNNEEDED, same version is already published

Summary

Package: SomaticCancerAlterations
Version: 1.30.0
Command: /home/biocbuild/bbs-3.14-bioc/R/bin/R CMD build --keep-empty-dirs --no-resave-data SomaticCancerAlterations
StartedAt: 2021-12-01 14:36:13 -0500 (Wed, 01 Dec 2021)
EndedAt: 2021-12-01 14:36:35 -0500 (Wed, 01 Dec 2021)
EllapsedTime: 22.3 seconds
RetCode: 0
Status:   OK  
PackageFile: SomaticCancerAlterations_1.30.0.tar.gz
PackageFileSize: 4.374 MiB

Command output

##############################################################################
##############################################################################
###
### Running command:
###
###   /home/biocbuild/bbs-3.14-bioc/R/bin/R CMD build --keep-empty-dirs --no-resave-data SomaticCancerAlterations
###
##############################################################################
##############################################################################


* checking for file ‘SomaticCancerAlterations/DESCRIPTION’ ... OK
* preparing ‘SomaticCancerAlterations’:
* checking DESCRIPTION meta-information ... OK
* installing the package to build vignettes
* creating vignettes ... OK
* checking for LF line-endings in source and make files and shell scripts
* checking for empty or unneeded directories
* looking to see if a ‘data/datalist’ file should be added
* building ‘SomaticCancerAlterations_1.30.0.tar.gz’