Back to Build/check report for BioC 3.14 experimental data
ABCDEFGHIJKLMNOPQR[S]TUVWXYZ

This page was generated on 2021-10-16 15:51:46 -0400 (Sat, 16 Oct 2021).

BUILD results for SingleMoleculeFootprintingData on nebbiolo2

To the developers/maintainers of the SingleMoleculeFootprintingData package:
Make sure to use the following settings in order to reproduce any error or warning you see on this page.

raw results

Package 350/404HostnameOS / ArchINSTALLBUILDCHECK
SingleMoleculeFootprintingData 1.1.0  (landing page)
Guido Barzaghi
Snapshot Date: 2021-10-16 09:30:02 -0400 (Sat, 16 Oct 2021)
git_url: https://git.bioconductor.org/packages/SingleMoleculeFootprintingData
git_branch: master
git_last_commit: 2caa667
git_last_commit_date: 2021-05-19 12:13:00 -0400 (Wed, 19 May 2021)
nebbiolo2Linux (Ubuntu 20.04.2 LTS) / x86_64  OK    OK    OK  UNNEEDED, same version is already published

Summary

Package: SingleMoleculeFootprintingData
Version: 1.1.0
Command: /home/biocbuild/bbs-3.14-bioc/R/bin/R CMD build --keep-empty-dirs --no-resave-data SingleMoleculeFootprintingData
StartedAt: 2021-10-16 11:34:25 -0400 (Sat, 16 Oct 2021)
EndedAt: 2021-10-16 11:34:46 -0400 (Sat, 16 Oct 2021)
EllapsedTime: 20.7 seconds
RetCode: 0
Status:   OK  
PackageFile: SingleMoleculeFootprintingData_1.1.0.tar.gz
PackageFileSize: 19.76 KiB

Command output

##############################################################################
##############################################################################
###
### Running command:
###
###   /home/biocbuild/bbs-3.14-bioc/R/bin/R CMD build --keep-empty-dirs --no-resave-data SingleMoleculeFootprintingData
###
##############################################################################
##############################################################################


* checking for file ‘SingleMoleculeFootprintingData/DESCRIPTION’ ... OK
* preparing ‘SingleMoleculeFootprintingData’:
* checking DESCRIPTION meta-information ... OK
* installing the package to build vignettes
* creating vignettes ... OK
* checking for LF line-endings in source and make files and shell scripts
* checking for empty or unneeded directories
Omitted ‘LazyData’ from DESCRIPTION
* building ‘SingleMoleculeFootprintingData_1.1.0.tar.gz’