Back to Build/check report for BioC 3.14 experimental data
ABCDEFGHIJKLMNOPQR[S]TUVWXYZ

This page was generated on 2021-10-16 15:51:46 -0400 (Sat, 16 Oct 2021).

BUILD results for SingleCellMultiModal on nebbiolo2

To the developers/maintainers of the SingleCellMultiModal package:
Make sure to use the following settings in order to reproduce any error or warning you see on this page.

raw results

Package 349/404HostnameOS / ArchINSTALLBUILDCHECK
SingleCellMultiModal 1.5.10  (landing page)
Marcel Ramos
Snapshot Date: 2021-10-16 09:30:02 -0400 (Sat, 16 Oct 2021)
git_url: https://git.bioconductor.org/packages/SingleCellMultiModal
git_branch: master
git_last_commit: adcd0ff
git_last_commit_date: 2021-10-15 17:37:20 -0400 (Fri, 15 Oct 2021)
nebbiolo2Linux (Ubuntu 20.04.2 LTS) / x86_64  OK    OK    OK  YES

Summary

Package: SingleCellMultiModal
Version: 1.5.10
Command: /home/biocbuild/bbs-3.14-bioc/R/bin/R CMD build --keep-empty-dirs --no-resave-data SingleCellMultiModal
StartedAt: 2021-10-16 11:34:13 -0400 (Sat, 16 Oct 2021)
EndedAt: 2021-10-16 11:40:07 -0400 (Sat, 16 Oct 2021)
EllapsedTime: 354.5 seconds
RetCode: 0
Status:   OK  
PackageFile: SingleCellMultiModal_1.5.10.tar.gz
PackageFileSize: 2.413 MiB

Command output

##############################################################################
##############################################################################
###
### Running command:
###
###   /home/biocbuild/bbs-3.14-bioc/R/bin/R CMD build --keep-empty-dirs --no-resave-data SingleCellMultiModal
###
##############################################################################
##############################################################################


* checking for file ‘SingleCellMultiModal/DESCRIPTION’ ... OK
* preparing ‘SingleCellMultiModal’:
* checking DESCRIPTION meta-information ... OK
* installing the package to build vignettes
* creating vignettes ... OK
* checking for LF line-endings in source and make files and shell scripts
* checking for empty or unneeded directories
* building ‘SingleCellMultiModal_1.5.10.tar.gz’