Back to Build/check report for BioC 3.14 experimental data
ABCDEFGHIJKLMNOPQR[S]TUVWXYZ

This page was generated on 2021-10-16 15:51:46 -0400 (Sat, 16 Oct 2021).

INSTALL results for Single.mTEC.Transcriptomes on nebbiolo2

To the developers/maintainers of the Single.mTEC.Transcriptomes package:
Make sure to use the following settings in order to reproduce any error or warning you see on this page.

raw results

Package 348/404HostnameOS / ArchINSTALLBUILDCHECK
Single.mTEC.Transcriptomes 1.21.2  (landing page)
Alejandro Reyes
Snapshot Date: 2021-10-16 09:30:02 -0400 (Sat, 16 Oct 2021)
git_url: https://git.bioconductor.org/packages/Single.mTEC.Transcriptomes
git_branch: master
git_last_commit: 69cdc6a
git_last_commit_date: 2021-08-24 05:35:50 -0400 (Tue, 24 Aug 2021)
nebbiolo2Linux (Ubuntu 20.04.2 LTS) / x86_64  OK    OK    OK  UNNEEDED, same version is already published

Summary

Package: Single.mTEC.Transcriptomes
Version: 1.21.2
Command: /home/biocbuild/bbs-3.14-bioc/R/bin/R CMD INSTALL Single.mTEC.Transcriptomes
StartedAt: 2021-10-16 11:01:12 -0400 (Sat, 16 Oct 2021)
EndedAt: 2021-10-16 11:01:14 -0400 (Sat, 16 Oct 2021)
EllapsedTime: 2.1 seconds
RetCode: 0
Status:   OK  

Command output

##############################################################################
##############################################################################
###
### Running command:
###
###   /home/biocbuild/bbs-3.14-bioc/R/bin/R CMD INSTALL Single.mTEC.Transcriptomes
###
##############################################################################
##############################################################################


* installing to library ‘/home/biocbuild/bbs-3.14-bioc/R/library’
* installing *source* package ‘Single.mTEC.Transcriptomes’ ...
** using staged installation
** R
** data
** inst
** byte-compile and prepare package for lazy loading
** help
*** installing help indices
** building package indices
** installing vignettes
** testing if installed package can be loaded from temporary location
** testing if installed package can be loaded from final location
** testing if installed package keeps a record of temporary installation path
* DONE (Single.mTEC.Transcriptomes)