Back to Build/check report for BioC 3.14 experimental data
ABCDEFGHIJKLMNOPQR[S]TUVWXYZ

This page was generated on 2021-10-23 15:51:47 -0400 (Sat, 23 Oct 2021).

BUILD results for Single.mTEC.Transcriptomes on nebbiolo2

To the developers/maintainers of the Single.mTEC.Transcriptomes package:
Make sure to use the following settings in order to reproduce any error or warning you see on this page.

raw results

Package 352/408HostnameOS / ArchINSTALLBUILDCHECK
Single.mTEC.Transcriptomes 1.21.2  (landing page)
Alejandro Reyes
Snapshot Date: 2021-10-23 09:30:01 -0400 (Sat, 23 Oct 2021)
git_url: https://git.bioconductor.org/packages/Single.mTEC.Transcriptomes
git_branch: master
git_last_commit: 69cdc6a
git_last_commit_date: 2021-08-24 05:35:50 -0400 (Tue, 24 Aug 2021)
nebbiolo2Linux (Ubuntu 20.04.2 LTS) / x86_64  OK    OK    OK  UNNEEDED, same version is already published

Summary

Package: Single.mTEC.Transcriptomes
Version: 1.21.2
Command: /home/biocbuild/bbs-3.14-bioc/R/bin/R CMD build --keep-empty-dirs --no-resave-data Single.mTEC.Transcriptomes
StartedAt: 2021-10-23 11:36:28 -0400 (Sat, 23 Oct 2021)
EndedAt: 2021-10-23 12:09:39 -0400 (Sat, 23 Oct 2021)
EllapsedTime: 1990.7 seconds
RetCode: 0
Status:   OK  
PackageFile: Single.mTEC.Transcriptomes_1.21.2.tar.gz
PackageFileSize: 903.9 MiB

Command output

##############################################################################
##############################################################################
###
### Running command:
###
###   /home/biocbuild/bbs-3.14-bioc/R/bin/R CMD build --keep-empty-dirs --no-resave-data Single.mTEC.Transcriptomes
###
##############################################################################
##############################################################################


* checking for file ‘Single.mTEC.Transcriptomes/DESCRIPTION’ ... OK
* preparing ‘Single.mTEC.Transcriptomes’:
* checking DESCRIPTION meta-information ... OK
* installing the package to build vignettes
* creating vignettes ... OK
* checking for LF line-endings in source and make files and shell scripts
* checking for empty or unneeded directories
* looking to see if a ‘data/datalist’ file should be added
  NB: this package now depends on R (>= 3.5.0)
  WARNING: Added dependency on R >= 3.5.0 because serialized objects in
  serialize/load version 3 cannot be read in older versions of R.
  File(s) containing such objects:
    ‘Single.mTEC.Transcriptomes/data/coexpressionGroupList.RData’
* building ‘Single.mTEC.Transcriptomes_1.21.2.tar.gz’