Back to Build/check report for BioC 3.14 experimental data
ABCDEFGHIJKLMNOPQR[S]TUVWXYZ

This page was generated on 2021-10-26 15:52:18 -0400 (Tue, 26 Oct 2021).

All results for package Single.mTEC.Transcriptomes

To the developers/maintainers of the Single.mTEC.Transcriptomes package:
Make sure to use the following settings in order to reproduce any error or warning you see on this page.

raw results

Package 352/408HostnameOS / ArchINSTALLBUILDCHECK
Single.mTEC.Transcriptomes 1.21.2  (landing page)
Alejandro Reyes
Snapshot Date: 2021-10-26 09:30:02 -0400 (Tue, 26 Oct 2021)
git_url: https://git.bioconductor.org/packages/Single.mTEC.Transcriptomes
git_branch: master
git_last_commit: 69cdc6a
git_last_commit_date: 2021-08-24 05:35:50 -0400 (Tue, 24 Aug 2021)
nebbiolo2Linux (Ubuntu 20.04.2 LTS) / x86_64  OK    OK    OK  UNNEEDED, same version is already published