Back to Build/check report for BioC 3.14 experimental data
ABCDEFGHIJKLMNOPQR[S]TUVWXYZ

This page was generated on 2021-10-23 15:51:47 -0400 (Sat, 23 Oct 2021).

BUILD results for STexampleData on nebbiolo2

To the developers/maintainers of the STexampleData package:
Make sure to use the following settings in order to reproduce any error or warning you see on this page.

raw results

Package 366/408HostnameOS / ArchINSTALLBUILDCHECK
STexampleData 1.1.13  (landing page)
Lukas M. Weber
Snapshot Date: 2021-10-23 09:30:01 -0400 (Sat, 23 Oct 2021)
git_url: https://git.bioconductor.org/packages/STexampleData
git_branch: master
git_last_commit: ad01823
git_last_commit_date: 2021-08-04 11:46:53 -0400 (Wed, 04 Aug 2021)
nebbiolo2Linux (Ubuntu 20.04.2 LTS) / x86_64  OK    OK    OK  UNNEEDED, same version is already published

Summary

Package: STexampleData
Version: 1.1.13
Command: /home/biocbuild/bbs-3.14-bioc/R/bin/R CMD build --keep-empty-dirs --no-resave-data STexampleData
StartedAt: 2021-10-23 11:37:15 -0400 (Sat, 23 Oct 2021)
EndedAt: 2021-10-23 11:38:21 -0400 (Sat, 23 Oct 2021)
EllapsedTime: 65.9 seconds
RetCode: 0
Status:   OK  
PackageFile: STexampleData_1.1.13.tar.gz
PackageFileSize: 226.1 KiB

Command output

##############################################################################
##############################################################################
###
### Running command:
###
###   /home/biocbuild/bbs-3.14-bioc/R/bin/R CMD build --keep-empty-dirs --no-resave-data STexampleData
###
##############################################################################
##############################################################################


* checking for file ‘STexampleData/DESCRIPTION’ ... OK
* preparing ‘STexampleData’:
* checking DESCRIPTION meta-information ... OK
* installing the package to build vignettes
* creating vignettes ... OK
* checking for LF line-endings in source and make files and shell scripts
* checking for empty or unneeded directories
* building ‘STexampleData_1.1.13.tar.gz’