Back to Build/check report for BioC 3.14 experimental data
ABCDEFGHIJKLMNOPQR[S]TUVWXYZ

This page was generated on 2021-10-16 15:51:46 -0400 (Sat, 16 Oct 2021).

BUILD results for SNPhoodData on nebbiolo2

To the developers/maintainers of the SNPhoodData package:
Make sure to use the following settings in order to reproduce any error or warning you see on this page.

raw results

Package 353/404HostnameOS / ArchINSTALLBUILDCHECK
SNPhoodData 1.23.0  (landing page)
Christian Arnold
Snapshot Date: 2021-10-16 09:30:02 -0400 (Sat, 16 Oct 2021)
git_url: https://git.bioconductor.org/packages/SNPhoodData
git_branch: master
git_last_commit: 7b7f7af
git_last_commit_date: 2021-05-19 11:53:11 -0400 (Wed, 19 May 2021)
nebbiolo2Linux (Ubuntu 20.04.2 LTS) / x86_64  OK    OK    OK  UNNEEDED, same version is already published

Summary

Package: SNPhoodData
Version: 1.23.0
Command: /home/biocbuild/bbs-3.14-bioc/R/bin/R CMD build --keep-empty-dirs --no-resave-data SNPhoodData
StartedAt: 2021-10-16 11:34:36 -0400 (Sat, 16 Oct 2021)
EndedAt: 2021-10-16 11:34:51 -0400 (Sat, 16 Oct 2021)
EllapsedTime: 15.3 seconds
RetCode: 0
Status:   OK  
PackageFile: SNPhoodData_1.23.0.tar.gz
PackageFileSize: 233.5 MiB

Command output

##############################################################################
##############################################################################
###
### Running command:
###
###   /home/biocbuild/bbs-3.14-bioc/R/bin/R CMD build --keep-empty-dirs --no-resave-data SNPhoodData
###
##############################################################################
##############################################################################


* checking for file ‘SNPhoodData/DESCRIPTION’ ... OK
* preparing ‘SNPhoodData’:
* checking DESCRIPTION meta-information ... OK
* installing the package to build vignettes
* creating vignettes ... OK
* checking for LF line-endings in source and make files and shell scripts
* checking for empty or unneeded directories
Omitted ‘LazyData’ from DESCRIPTION
* building ‘SNPhoodData_1.23.0.tar.gz’