Back to Build/check report for BioC 3.14 experimental data
ABCDEFGHIJKLMNOPQR[S]TUVWXYZ

This page was generated on 2021-10-26 15:52:19 -0400 (Tue, 26 Oct 2021).

INSTALL results for SNAData on nebbiolo2

To the developers/maintainers of the SNAData package:
Make sure to use the following settings in order to reproduce any error or warning you see on this page.

raw results

Package 355/408HostnameOS / ArchINSTALLBUILDCHECK
SNAData 1.39.0  (landing page)
Denise Scholtens
Snapshot Date: 2021-10-26 09:30:02 -0400 (Tue, 26 Oct 2021)
git_url: https://git.bioconductor.org/packages/SNAData
git_branch: master
git_last_commit: 30133a8
git_last_commit_date: 2021-05-19 11:25:45 -0400 (Wed, 19 May 2021)
nebbiolo2Linux (Ubuntu 20.04.2 LTS) / x86_64  OK    OK    OK  UNNEEDED, same version is already published

Summary

Package: SNAData
Version: 1.39.0
Command: /home/biocbuild/bbs-3.14-bioc/R/bin/R CMD INSTALL SNAData
StartedAt: 2021-10-26 11:01:20 -0400 (Tue, 26 Oct 2021)
EndedAt: 2021-10-26 11:01:22 -0400 (Tue, 26 Oct 2021)
EllapsedTime: 2.0 seconds
RetCode: 0
Status:   OK  

Command output

##############################################################################
##############################################################################
###
### Running command:
###
###   /home/biocbuild/bbs-3.14-bioc/R/bin/R CMD INSTALL SNAData
###
##############################################################################
##############################################################################


* installing to library ‘/home/biocbuild/bbs-3.14-bioc/R/library’
* installing *source* package ‘SNAData’ ...
** using staged installation
** R
** data
** byte-compile and prepare package for lazy loading
** help
*** installing help indices
** building package indices
** installing vignettes
** testing if installed package can be loaded from temporary location
** testing if installed package can be loaded from final location
** testing if installed package keeps a record of temporary installation path
* DONE (SNAData)