Back to Build/check report for BioC 3.14 experimental data
ABCDEFGHIJKLMNOPQR[S]TUVWXYZ

This page was generated on 2021-10-23 15:51:47 -0400 (Sat, 23 Oct 2021).

INSTALL results for SCATEData on nebbiolo2

To the developers/maintainers of the SCATEData package:
Make sure to use the following settings in order to reproduce any error or warning you see on this page.

raw results

Package 337/408HostnameOS / ArchINSTALLBUILDCHECK
SCATEData 1.3.0  (landing page)
Wenpin Hou
Snapshot Date: 2021-10-23 09:30:01 -0400 (Sat, 23 Oct 2021)
git_url: https://git.bioconductor.org/packages/SCATEData
git_branch: master
git_last_commit: 51d012c
git_last_commit_date: 2021-05-19 12:10:42 -0400 (Wed, 19 May 2021)
nebbiolo2Linux (Ubuntu 20.04.2 LTS) / x86_64  OK    OK    OK  UNNEEDED, same version is already published

Summary

Package: SCATEData
Version: 1.3.0
Command: /home/biocbuild/bbs-3.14-bioc/R/bin/R CMD INSTALL SCATEData
StartedAt: 2021-10-23 11:03:25 -0400 (Sat, 23 Oct 2021)
EndedAt: 2021-10-23 11:03:54 -0400 (Sat, 23 Oct 2021)
EllapsedTime: 28.0 seconds
RetCode: 0
Status:   OK  

Command output

##############################################################################
##############################################################################
###
### Running command:
###
###   /home/biocbuild/bbs-3.14-bioc/R/bin/R CMD INSTALL SCATEData
###
##############################################################################
##############################################################################


* installing to library ‘/home/biocbuild/bbs-3.14-bioc/R/library’
* installing *source* package ‘SCATEData’ ...
** using staged installation
** R
** inst
** byte-compile and prepare package for lazy loading
** help
*** installing help indices
** building package indices
** installing vignettes
** testing if installed package can be loaded from temporary location
snapshotDate(): 2021-10-18
** testing if installed package can be loaded from final location
snapshotDate(): 2021-10-18
** testing if installed package keeps a record of temporary installation path
* DONE (SCATEData)