Back to Build/check report for BioC 3.14 experimental data
ABCDEFGHIJKLMNOPQ[R]STUVWXYZ

This page was generated on 2021-10-23 15:51:46 -0400 (Sat, 23 Oct 2021).

All results for package RnBeads.mm9

To the developers/maintainers of the RnBeads.mm9 package:
Make sure to use the following settings in order to reproduce any error or warning you see on this page.

raw results

Package 319/408HostnameOS / ArchINSTALLBUILDCHECK
RnBeads.mm9 1.25.0  (landing page)
RnBeadsAnnotationCreator
Snapshot Date: 2021-10-23 09:30:01 -0400 (Sat, 23 Oct 2021)
git_url: https://git.bioconductor.org/packages/RnBeads.mm9
git_branch: master
git_last_commit: f237ed9
git_last_commit_date: 2021-05-19 11:51:38 -0400 (Wed, 19 May 2021)
nebbiolo2Linux (Ubuntu 20.04.2 LTS) / x86_64  OK    OK    WARNINGS  UNNEEDED, same version is already published