Back to Build/check report for BioC 3.14 experimental data
ABCDEFGHIJKLMNOPQ[R]STUVWXYZ

This page was generated on 2021-10-26 15:52:19 -0400 (Tue, 26 Oct 2021).

BUILD results for RnBeads.mm10 on nebbiolo2

To the developers/maintainers of the RnBeads.mm10 package:
Make sure to use the following settings in order to reproduce any error or warning you see on this page.

raw results

Package 318/408HostnameOS / ArchINSTALLBUILDCHECK
RnBeads.mm10 2.1.1  (landing page)
RnBeads Team
Snapshot Date: 2021-10-26 09:30:02 -0400 (Tue, 26 Oct 2021)
git_url: https://git.bioconductor.org/packages/RnBeads.mm10
git_branch: master
git_last_commit: 522f8d9
git_last_commit_date: 2021-10-11 16:39:50 -0400 (Mon, 11 Oct 2021)
nebbiolo2Linux (Ubuntu 20.04.2 LTS) / x86_64  OK    OK    OK  UNNEEDED, same version is already published

Summary

Package: RnBeads.mm10
Version: 2.1.1
Command: /home/biocbuild/bbs-3.14-bioc/R/bin/R CMD build --keep-empty-dirs --no-resave-data RnBeads.mm10
StartedAt: 2021-10-26 11:34:40 -0400 (Tue, 26 Oct 2021)
EndedAt: 2021-10-26 11:34:57 -0400 (Tue, 26 Oct 2021)
EllapsedTime: 17.1 seconds
RetCode: 0
Status:   OK  
PackageFile: RnBeads.mm10_2.1.1.tar.gz
PackageFileSize: 251.9 MiB

Command output

##############################################################################
##############################################################################
###
### Running command:
###
###   /home/biocbuild/bbs-3.14-bioc/R/bin/R CMD build --keep-empty-dirs --no-resave-data RnBeads.mm10
###
##############################################################################
##############################################################################


* checking for file ‘RnBeads.mm10/DESCRIPTION’ ... OK
* preparing ‘RnBeads.mm10’:
* checking DESCRIPTION meta-information ... OK
* checking for LF line-endings in source and make files and shell scripts
* checking for empty or unneeded directories
* looking to see if a ‘data/datalist’ file should be added
* building ‘RnBeads.mm10_2.1.1.tar.gz’