Back to Build/check report for BioC 3.14 experimental data
ABCDEFGHIJKLMNOPQ[R]STUVWXYZ

This page was generated on 2021-10-16 15:51:45 -0400 (Sat, 16 Oct 2021).

All results for package RnBeads.mm10

To the developers/maintainers of the RnBeads.mm10 package:
Make sure to use the following settings in order to reproduce any error or warning you see on this page.

raw results

Package 315/404HostnameOS / ArchINSTALLBUILDCHECK
RnBeads.mm10 2.1.1  (landing page)
RnBeads Team
Snapshot Date: 2021-10-16 09:30:02 -0400 (Sat, 16 Oct 2021)
git_url: https://git.bioconductor.org/packages/RnBeads.mm10
git_branch: master
git_last_commit: 522f8d9
git_last_commit_date: 2021-10-11 16:39:50 -0400 (Mon, 11 Oct 2021)
nebbiolo2Linux (Ubuntu 20.04.2 LTS) / x86_64  OK    OK    OK  UNNEEDED, same version is already published