Back to Build/check report for BioC 3.14 experimental data
ABCDEFGHIJKLMNOPQ[R]STUVWXYZ

This page was generated on 2021-11-24 18:35:27 -0500 (Wed, 24 Nov 2021).

BUILD results for RforProteomics on nebbiolo2

To the developers/maintainers of the RforProteomics package:
Make sure to use the following settings in order to reproduce any error or warning you see on this page.

raw results

Package 305/408HostnameOS / ArchINSTALLBUILDCHECK
RforProteomics 1.32.0  (landing page)
Laurent Gatto
Snapshot Date: 2021-11-24 08:30:01 -0500 (Wed, 24 Nov 2021)
git_url: https://git.bioconductor.org/packages/RforProteomics
git_branch: RELEASE_3_14
git_last_commit: a145bb3
git_last_commit_date: 2021-10-26 11:58:00 -0500 (Tue, 26 Oct 2021)
nebbiolo2Linux (Ubuntu 20.04.3 LTS) / x86_64  OK    OK    WARNINGS  UNNEEDED, same version is already published

Summary

Package: RforProteomics
Version: 1.32.0
Command: /home/biocbuild/bbs-3.14-bioc/R/bin/R CMD build --keep-empty-dirs --no-resave-data RforProteomics
StartedAt: 2021-11-24 14:43:32 -0500 (Wed, 24 Nov 2021)
EndedAt: 2021-11-24 14:48:38 -0500 (Wed, 24 Nov 2021)
EllapsedTime: 305.9 seconds
RetCode: 0
Status:   OK  
PackageFile: RforProteomics_1.32.0.tar.gz
PackageFileSize: 7.713 MiB

Command output

##############################################################################
##############################################################################
###
### Running command:
###
###   /home/biocbuild/bbs-3.14-bioc/R/bin/R CMD build --keep-empty-dirs --no-resave-data RforProteomics
###
##############################################################################
##############################################################################


* checking for file ‘RforProteomics/DESCRIPTION’ ... OK
* preparing ‘RforProteomics’:
* checking DESCRIPTION meta-information ... OK
* installing the package to build vignettes
* creating vignettes ... OK
* checking for LF line-endings in source and make files and shell scripts
* checking for empty or unneeded directories
* looking to see if a ‘data/datalist’ file should be added
* building ‘RforProteomics_1.32.0.tar.gz’