Back to Build/check report for BioC 3.14 experimental data
ABCDEFGHIJKLMNOPQ[R]STUVWXYZ

This page was generated on 2021-10-26 15:52:19 -0400 (Tue, 26 Oct 2021).

BUILD results for ReactomeGSA.data on nebbiolo2

To the developers/maintainers of the ReactomeGSA.data package:
Make sure to use the following settings in order to reproduce any error or warning you see on this page.

raw results

Package 302/408HostnameOS / ArchINSTALLBUILDCHECK
ReactomeGSA.data 1.7.0  (landing page)
Johannes Griss
Snapshot Date: 2021-10-26 09:30:02 -0400 (Tue, 26 Oct 2021)
git_url: https://git.bioconductor.org/packages/ReactomeGSA.data
git_branch: master
git_last_commit: 2d318dc
git_last_commit_date: 2021-05-19 12:09:11 -0400 (Wed, 19 May 2021)
nebbiolo2Linux (Ubuntu 20.04.2 LTS) / x86_64  OK    OK    OK  UNNEEDED, same version is already published

Summary

Package: ReactomeGSA.data
Version: 1.7.0
Command: /home/biocbuild/bbs-3.14-bioc/R/bin/R CMD build --keep-empty-dirs --no-resave-data ReactomeGSA.data
StartedAt: 2021-10-26 11:33:46 -0400 (Tue, 26 Oct 2021)
EndedAt: 2021-10-26 11:33:50 -0400 (Tue, 26 Oct 2021)
EllapsedTime: 4.5 seconds
RetCode: 0
Status:   OK  
PackageFile: ReactomeGSA.data_1.7.0.tar.gz
PackageFileSize: 12.7 MiB

Command output

##############################################################################
##############################################################################
###
### Running command:
###
###   /home/biocbuild/bbs-3.14-bioc/R/bin/R CMD build --keep-empty-dirs --no-resave-data ReactomeGSA.data
###
##############################################################################
##############################################################################


* checking for file ‘ReactomeGSA.data/DESCRIPTION’ ... OK
* preparing ‘ReactomeGSA.data’:
* checking DESCRIPTION meta-information ... OK
* checking for LF line-endings in source and make files and shell scripts
* checking for empty or unneeded directories
* looking to see if a ‘data/datalist’ file should be added
* building ‘ReactomeGSA.data_1.7.0.tar.gz’