Back to Build/check report for BioC 3.14 experimental data
ABCDEFGHIJKLMNOPQ[R]STUVWXYZ

This page was generated on 2021-10-16 15:51:46 -0400 (Sat, 16 Oct 2021).

BUILD results for RTCGA.methylation on nebbiolo2

To the developers/maintainers of the RTCGA.methylation package:
Make sure to use the following settings in order to reproduce any error or warning you see on this page.

raw results

Package 322/404HostnameOS / ArchINSTALLBUILDCHECK
RTCGA.methylation 1.21.1  (landing page)
Marcin Kosinski
Snapshot Date: 2021-10-16 09:30:02 -0400 (Sat, 16 Oct 2021)
git_url: https://git.bioconductor.org/packages/RTCGA.methylation
git_branch: master
git_last_commit: 593e0a3
git_last_commit_date: 2021-09-09 06:04:09 -0400 (Thu, 09 Sep 2021)
nebbiolo2Linux (Ubuntu 20.04.2 LTS) / x86_64  OK    OK    WARNINGS  UNNEEDED, same version is already published

Summary

Package: RTCGA.methylation
Version: 1.21.1
Command: /home/biocbuild/bbs-3.14-bioc/R/bin/R CMD build --keep-empty-dirs --no-resave-data RTCGA.methylation
StartedAt: 2021-10-16 11:31:42 -0400 (Sat, 16 Oct 2021)
EndedAt: 2021-10-16 11:34:40 -0400 (Sat, 16 Oct 2021)
EllapsedTime: 177.8 seconds
RetCode: 0
Status:   OK  
PackageFile: RTCGA.methylation_1.21.1.tar.gz
PackageFileSize: 622.8 MiB

Command output

##############################################################################
##############################################################################
###
### Running command:
###
###   /home/biocbuild/bbs-3.14-bioc/R/bin/R CMD build --keep-empty-dirs --no-resave-data RTCGA.methylation
###
##############################################################################
##############################################################################


* checking for file ‘RTCGA.methylation/DESCRIPTION’ ... OK
* preparing ‘RTCGA.methylation’:
* checking DESCRIPTION meta-information ... OK
* installing the package to build vignettes
* creating vignettes ... OK
* checking for LF line-endings in source and make files and shell scripts
* checking for empty or unneeded directories
* building ‘RTCGA.methylation_1.21.1.tar.gz’