Back to Build/check report for BioC 3.14 experimental data
ABCDEFGHIJKLMNOPQ[R]STUVWXYZ

This page was generated on 2021-10-19 15:52:17 -0400 (Tue, 19 Oct 2021).

All results for package RTCGA.methylation

To the developers/maintainers of the RTCGA.methylation package:
Make sure to use the following settings in order to reproduce any error or warning you see on this page.

raw results

Package 322/404HostnameOS / ArchINSTALLBUILDCHECK
RTCGA.methylation 1.21.1  (landing page)
Marcin Kosinski
Snapshot Date: 2021-10-19 09:30:02 -0400 (Tue, 19 Oct 2021)
git_url: https://git.bioconductor.org/packages/RTCGA.methylation
git_branch: master
git_last_commit: 593e0a3
git_last_commit_date: 2021-09-09 06:04:09 -0400 (Thu, 09 Sep 2021)
nebbiolo2Linux (Ubuntu 20.04.2 LTS) / x86_64  OK    OK    WARNINGS  UNNEEDED, same version is already published