Back to Build/check report for BioC 3.14 experimental data
ABCDEFGHIJKLMNOPQ[R]STUVWXYZ

This page was generated on 2021-12-01 18:35:25 -0500 (Wed, 01 Dec 2021).

INSTALL results for RTCGA.mRNA on nebbiolo2

To the developers/maintainers of the RTCGA.mRNA package:
Make sure to use the following settings in order to reproduce any error or warning you see on this page.

raw results

Package 327/408HostnameOS / ArchINSTALLBUILDCHECK
RTCGA.mRNA 1.22.0  (landing page)
Marcin Kosinski
Snapshot Date: 2021-12-01 08:30:01 -0500 (Wed, 01 Dec 2021)
git_url: https://git.bioconductor.org/packages/RTCGA.mRNA
git_branch: RELEASE_3_14
git_last_commit: ee77b5f
git_last_commit_date: 2021-10-26 12:20:28 -0500 (Tue, 26 Oct 2021)
nebbiolo2Linux (Ubuntu 20.04.3 LTS) / x86_64  OK    OK    WARNINGS  UNNEEDED, same version is already published

Summary

Package: RTCGA.mRNA
Version: 1.22.0
Command: /home/biocbuild/bbs-3.14-bioc/R/bin/R CMD INSTALL RTCGA.mRNA
StartedAt: 2021-12-01 14:07:37 -0500 (Wed, 01 Dec 2021)
EndedAt: 2021-12-01 14:08:18 -0500 (Wed, 01 Dec 2021)
EllapsedTime: 41.1 seconds
RetCode: 0
Status:   OK  

Command output

##############################################################################
##############################################################################
###
### Running command:
###
###   /home/biocbuild/bbs-3.14-bioc/R/bin/R CMD INSTALL RTCGA.mRNA
###
##############################################################################
##############################################################################


* installing to library ‘/home/biocbuild/bbs-3.14-bioc/R/library’
* installing *source* package ‘RTCGA.mRNA’ ...
** using staged installation
** R
** data
*** moving datasets to lazyload DB
** byte-compile and prepare package for lazy loading
** help
*** installing help indices
** building package indices
** installing vignettes
** testing if installed package can be loaded from temporary location
** testing if installed package can be loaded from final location
** testing if installed package keeps a record of temporary installation path
* DONE (RTCGA.mRNA)