Back to Build/check report for BioC 3.14 experimental data
ABCDEFGHIJKLMNOPQ[R]STUVWXYZ

This page was generated on 2021-10-16 15:51:46 -0400 (Sat, 16 Oct 2021).

INSTALL results for RTCGA.clinical on nebbiolo2

To the developers/maintainers of the RTCGA.clinical package:
Make sure to use the following settings in order to reproduce any error or warning you see on this page.

raw results

Package 320/404HostnameOS / ArchINSTALLBUILDCHECK
RTCGA.clinical 20151101.23.1  (landing page)
Marcin Kosinski
Snapshot Date: 2021-10-16 09:30:02 -0400 (Sat, 16 Oct 2021)
git_url: https://git.bioconductor.org/packages/RTCGA.clinical
git_branch: master
git_last_commit: a936611
git_last_commit_date: 2021-09-08 07:45:55 -0400 (Wed, 08 Sep 2021)
nebbiolo2Linux (Ubuntu 20.04.2 LTS) / x86_64  OK    OK    WARNINGS  UNNEEDED, same version is already published

Summary

Package: RTCGA.clinical
Version: 20151101.23.1
Command: /home/biocbuild/bbs-3.14-bioc/R/bin/R CMD INSTALL RTCGA.clinical
StartedAt: 2021-10-16 11:06:42 -0400 (Sat, 16 Oct 2021)
EndedAt: 2021-10-16 11:07:15 -0400 (Sat, 16 Oct 2021)
EllapsedTime: 33.1 seconds
RetCode: 0
Status:   OK  

Command output

##############################################################################
##############################################################################
###
### Running command:
###
###   /home/biocbuild/bbs-3.14-bioc/R/bin/R CMD INSTALL RTCGA.clinical
###
##############################################################################
##############################################################################


* installing to library ‘/home/biocbuild/bbs-3.14-bioc/R/library’
* installing *source* package ‘RTCGA.clinical’ ...
** using staged installation
** R
** data
*** moving datasets to lazyload DB
** byte-compile and prepare package for lazy loading
** help
*** installing help indices
** building package indices
** installing vignettes
** testing if installed package can be loaded from temporary location
** testing if installed package can be loaded from final location
** testing if installed package keeps a record of temporary installation path
* DONE (RTCGA.clinical)