Back to Build/check report for BioC 3.14 experimental data
ABCDEFGHIJKLMNOPQ[R]STUVWXYZ

This page was generated on 2021-10-23 15:51:46 -0400 (Sat, 23 Oct 2021).

All results for package RTCGA.PANCAN12

To the developers/maintainers of the RTCGA.PANCAN12 package:
Make sure to use the following settings in order to reproduce any error or warning you see on this page.

raw results

Package 329/408HostnameOS / ArchINSTALLBUILDCHECK
RTCGA.PANCAN12 1.21.1  (landing page)
Marcin Kosinski
Snapshot Date: 2021-10-23 09:30:01 -0400 (Sat, 23 Oct 2021)
git_url: https://git.bioconductor.org/packages/RTCGA.PANCAN12
git_branch: master
git_last_commit: 0b98210
git_last_commit_date: 2021-09-10 08:34:47 -0400 (Fri, 10 Sep 2021)
nebbiolo2Linux (Ubuntu 20.04.2 LTS) / x86_64  OK    OK    OK  UNNEEDED, same version is already published