Back to Build/check report for BioC 3.14 experimental data
ABCDEFGHIJKLMNOPQ[R]STUVWXYZ

This page was generated on 2021-11-24 18:35:27 -0500 (Wed, 24 Nov 2021).

BUILD results for RTCGA.CNV on nebbiolo2

To the developers/maintainers of the RTCGA.CNV package:
Make sure to use the following settings in order to reproduce any error or warning you see on this page.

raw results

Package 324/408HostnameOS / ArchINSTALLBUILDCHECK
RTCGA.CNV 1.22.0  (landing page)
Marcin Kosinski
Snapshot Date: 2021-11-24 08:30:01 -0500 (Wed, 24 Nov 2021)
git_url: https://git.bioconductor.org/packages/RTCGA.CNV
git_branch: RELEASE_3_14
git_last_commit: 922f546
git_last_commit_date: 2021-10-26 12:20:45 -0500 (Tue, 26 Oct 2021)
nebbiolo2Linux (Ubuntu 20.04.3 LTS) / x86_64  OK    OK    WARNINGS  UNNEEDED, same version is already published

Summary

Package: RTCGA.CNV
Version: 1.22.0
Command: /home/biocbuild/bbs-3.14-bioc/R/bin/R CMD build --keep-empty-dirs --no-resave-data RTCGA.CNV
StartedAt: 2021-11-24 14:44:31 -0500 (Wed, 24 Nov 2021)
EndedAt: 2021-11-24 14:44:49 -0500 (Wed, 24 Nov 2021)
EllapsedTime: 18.6 seconds
RetCode: 0
Status:   OK  
PackageFile: RTCGA.CNV_1.22.0.tar.gz
PackageFileSize: 27.37 MiB

Command output

##############################################################################
##############################################################################
###
### Running command:
###
###   /home/biocbuild/bbs-3.14-bioc/R/bin/R CMD build --keep-empty-dirs --no-resave-data RTCGA.CNV
###
##############################################################################
##############################################################################


* checking for file ‘RTCGA.CNV/DESCRIPTION’ ... OK
* preparing ‘RTCGA.CNV’:
* checking DESCRIPTION meta-information ... OK
* installing the package to build vignettes
* creating vignettes ... OK
* checking for LF line-endings in source and make files and shell scripts
* checking for empty or unneeded directories
* building ‘RTCGA.CNV_1.22.0.tar.gz’