Back to Build/check report for BioC 3.14 experimental data
ABCDEFGHIJKLMNOPQ[R]STUVWXYZ

This page was generated on 2021-10-16 15:51:45 -0400 (Sat, 16 Oct 2021).

All results for package RTCGA.CNV

To the developers/maintainers of the RTCGA.CNV package:
Make sure to use the following settings in order to reproduce any error or warning you see on this page.

raw results

Package 321/404HostnameOS / ArchINSTALLBUILDCHECK
RTCGA.CNV 1.21.1  (landing page)
Marcin Kosinski
Snapshot Date: 2021-10-16 09:30:02 -0400 (Sat, 16 Oct 2021)
git_url: https://git.bioconductor.org/packages/RTCGA.CNV
git_branch: master
git_last_commit: 9215391
git_last_commit_date: 2021-09-09 05:06:24 -0400 (Thu, 09 Sep 2021)
nebbiolo2Linux (Ubuntu 20.04.2 LTS) / x86_64  OK    OK    WARNINGS  UNNEEDED, same version is already published