Back to Build/check report for BioC 3.14 experimental data
ABCDEFGHIJKLMNOPQ[R]STUVWXYZ

This page was generated on 2021-10-26 15:52:19 -0400 (Tue, 26 Oct 2021).

CHECK results for RRBSdata on nebbiolo2

To the developers/maintainers of the RRBSdata package:
Make sure to use the following settings in order to reproduce any error or warning you see on this page.

raw results

Package 321/408HostnameOS / ArchINSTALLBUILDCHECK
RRBSdata 1.13.0  (landing page)
Katja Hebestreit
Snapshot Date: 2021-10-26 09:30:02 -0400 (Tue, 26 Oct 2021)
git_url: https://git.bioconductor.org/packages/RRBSdata
git_branch: master
git_last_commit: c67a0a1
git_last_commit_date: 2021-05-19 11:48:58 -0400 (Wed, 19 May 2021)
nebbiolo2Linux (Ubuntu 20.04.2 LTS) / x86_64  OK    OK    OK  UNNEEDED, same version is already published

Summary

Package: RRBSdata
Version: 1.13.0
Command: /home/biocbuild/bbs-3.14-bioc/R/bin/R CMD check --install=check:RRBSdata.install-out.txt --library=/home/biocbuild/bbs-3.14-bioc/R/library --no-vignettes --timings RRBSdata_1.13.0.tar.gz
StartedAt: 2021-10-26 12:39:39 -0400 (Tue, 26 Oct 2021)
EndedAt: 2021-10-26 12:42:43 -0400 (Tue, 26 Oct 2021)
EllapsedTime: 183.6 seconds
RetCode: 0
Status:   OK  
CheckDir: RRBSdata.Rcheck
Warnings: 0

Command output

##############################################################################
##############################################################################
###
### Running command:
###
###   /home/biocbuild/bbs-3.14-bioc/R/bin/R CMD check --install=check:RRBSdata.install-out.txt --library=/home/biocbuild/bbs-3.14-bioc/R/library --no-vignettes --timings RRBSdata_1.13.0.tar.gz
###
##############################################################################
##############################################################################


* using log directory ‘/home/biocbuild/bbs-3.14-data-experiment/meat/RRBSdata.Rcheck’
* using R version 4.1.1 (2021-08-10)
* using platform: x86_64-pc-linux-gnu (64-bit)
* using session charset: UTF-8
* using option ‘--no-vignettes’
* checking for file ‘RRBSdata/DESCRIPTION’ ... OK
* checking extension type ... Package
* this is package ‘RRBSdata’ version ‘1.13.0’
* checking package namespace information ... OK
* checking package dependencies ... OK
* checking if this is a source package ... OK
* checking if there is a namespace ... OK
* checking for hidden files and directories ... OK
* checking for portable file names ... OK
* checking for sufficient/correct file permissions ... OK
* checking whether package ‘RRBSdata’ can be installed ... OK
* checking installed package size ... NOTE
  installed size is 74.0Mb
  sub-directories of 1Mb or more:
    data  73.8Mb
* checking package directory ... OK
* checking ‘build’ directory ... OK
* checking DESCRIPTION meta-information ... OK
* checking top-level files ... OK
* checking for left-over files ... OK
* checking index information ... OK
* checking package subdirectories ... OK
* checking whether the package can be loaded ... OK
* checking whether the package can be loaded with stated dependencies ... OK
* checking whether the package can be unloaded cleanly ... OK
* checking whether the namespace can be loaded with stated dependencies ... OK
* checking whether the namespace can be unloaded cleanly ... OK
* checking Rd files ... OK
* checking Rd metadata ... OK
* checking Rd cross-references ... OK
* checking for missing documentation entries ... OK
* checking for code/documentation mismatches ... OK
* checking Rd \usage sections ... OK
* checking Rd contents ... OK
* checking for unstated dependencies in examples ... OK
* checking contents of ‘data’ directory ... OK
* checking data for non-ASCII characters ... OK
* checking data for ASCII and uncompressed saves ... OK
* checking files in ‘vignettes’ ... OK
* checking examples ... OK
Examples with CPU (user + system) or elapsed time > 5s
       user system elapsed
rrbs 39.237  1.712   40.95
* checking for unstated dependencies in vignettes ... OK
* checking package vignettes in ‘inst/doc’ ... OK
* checking running R code from vignettes ... SKIPPED
* checking re-building of vignette outputs ... SKIPPED
* checking PDF version of manual ... OK
* DONE

Status: 1 NOTE
See
  ‘/home/biocbuild/bbs-3.14-data-experiment/meat/RRBSdata.Rcheck/00check.log’
for details.



Installation output

RRBSdata.Rcheck/00install.out

##############################################################################
##############################################################################
###
### Running command:
###
###   /home/biocbuild/bbs-3.14-bioc/R/bin/R CMD INSTALL RRBSdata
###
##############################################################################
##############################################################################


* installing to library ‘/home/biocbuild/bbs-3.14-bioc/R/library’
* installing *source* package ‘RRBSdata’ ...
** using staged installation
** data
** inst
** help
*** installing help indices
** building package indices
** installing vignettes
** testing if installed package can be loaded from temporary location
** testing if installed package can be loaded from final location
** testing if installed package keeps a record of temporary installation path
* DONE (RRBSdata)

Tests output


Example timings

RRBSdata.Rcheck/RRBSdata-Ex.timings

nameusersystemelapsed
diffMethCpGs0.3000.0160.316
islands0.1050.0000.105
rrbs39.237 1.71240.950