Back to Build/check report for BioC 3.14 experimental data
ABCDEFGHIJKLMNOPQ[R]STUVWXYZ

This page was generated on 2021-12-01 18:35:25 -0500 (Wed, 01 Dec 2021).

CHECK results for RNAseqData.HNRNPC.bam.chr14 on nebbiolo2

To the developers/maintainers of the RNAseqData.HNRNPC.bam.chr14 package:
Make sure to use the following settings in order to reproduce any error or warning you see on this page.

raw results

Package 313/408HostnameOS / ArchINSTALLBUILDCHECK
RNAseqData.HNRNPC.bam.chr14 0.32.0  (landing page)
Hervé Pagès
Snapshot Date: 2021-12-01 08:30:01 -0500 (Wed, 01 Dec 2021)
git_url: https://git.bioconductor.org/packages/RNAseqData.HNRNPC.bam.chr14
git_branch: RELEASE_3_14
git_last_commit: a0c3aa5
git_last_commit_date: 2021-10-26 12:00:35 -0500 (Tue, 26 Oct 2021)
nebbiolo2Linux (Ubuntu 20.04.3 LTS) / x86_64  OK    OK    OK  UNNEEDED, same version is already published

Summary

Package: RNAseqData.HNRNPC.bam.chr14
Version: 0.32.0
Command: /home/biocbuild/bbs-3.14-bioc/R/bin/R CMD check --install=check:RNAseqData.HNRNPC.bam.chr14.install-out.txt --library=/home/biocbuild/bbs-3.14-bioc/R/library --no-vignettes --timings RNAseqData.HNRNPC.bam.chr14_0.32.0.tar.gz
StartedAt: 2021-12-01 15:35:40 -0500 (Wed, 01 Dec 2021)
EndedAt: 2021-12-01 15:36:15 -0500 (Wed, 01 Dec 2021)
EllapsedTime: 34.7 seconds
RetCode: 0
Status:   OK  
CheckDir: RNAseqData.HNRNPC.bam.chr14.Rcheck
Warnings: 0

Command output

##############################################################################
##############################################################################
###
### Running command:
###
###   /home/biocbuild/bbs-3.14-bioc/R/bin/R CMD check --install=check:RNAseqData.HNRNPC.bam.chr14.install-out.txt --library=/home/biocbuild/bbs-3.14-bioc/R/library --no-vignettes --timings RNAseqData.HNRNPC.bam.chr14_0.32.0.tar.gz
###
##############################################################################
##############################################################################


* using log directory ‘/home/biocbuild/bbs-3.14-data-experiment/meat/RNAseqData.HNRNPC.bam.chr14.Rcheck’
* using R version 4.1.2 (2021-11-01)
* using platform: x86_64-pc-linux-gnu (64-bit)
* using session charset: UTF-8
* using option ‘--no-vignettes’
* checking for file ‘RNAseqData.HNRNPC.bam.chr14/DESCRIPTION’ ... OK
* this is package ‘RNAseqData.HNRNPC.bam.chr14’ version ‘0.32.0’
* package encoding: UTF-8
* checking package namespace information ... OK
* checking package dependencies ... OK
* checking if this is a source package ... OK
* checking if there is a namespace ... OK
* checking for hidden files and directories ... OK
* checking for portable file names ... OK
* checking for sufficient/correct file permissions ... OK
* checking whether package ‘RNAseqData.HNRNPC.bam.chr14’ can be installed ... OK
* checking installed package size ... NOTE
  installed size is 420.3Mb
  sub-directories of 1Mb or more:
    extdata  420.1Mb
* checking package directory ... OK
* checking DESCRIPTION meta-information ... OK
* checking top-level files ... OK
* checking for left-over files ... OK
* checking index information ... OK
* checking package subdirectories ... OK
* checking R files for non-ASCII characters ... OK
* checking R files for syntax errors ... OK
* checking whether the package can be loaded ... OK
* checking whether the package can be loaded with stated dependencies ... OK
* checking whether the package can be unloaded cleanly ... OK
* checking whether the namespace can be loaded with stated dependencies ... OK
* checking whether the namespace can be unloaded cleanly ... OK
* checking dependencies in R code ... OK
* checking S3 generic/method consistency ... OK
* checking replacement functions ... OK
* checking foreign function calls ... OK
* checking R code for possible problems ... OK
* checking Rd files ... OK
* checking Rd metadata ... OK
* checking Rd cross-references ... OK
* checking for missing documentation entries ... OK
* checking for code/documentation mismatches ... OK
* checking Rd \usage sections ... OK
* checking Rd contents ... OK
* checking for unstated dependencies in examples ... OK
* checking examples ... OK
Examples with CPU (user + system) or elapsed time > 5s
                                      user system elapsed
RNAseqData.HNRNPC.bam.chr14-package 10.801  0.412  11.214
* checking PDF version of manual ... OK
* DONE

Status: 1 NOTE
See
  ‘/home/biocbuild/bbs-3.14-data-experiment/meat/RNAseqData.HNRNPC.bam.chr14.Rcheck/00check.log’
for details.



Installation output

RNAseqData.HNRNPC.bam.chr14.Rcheck/00install.out

##############################################################################
##############################################################################
###
### Running command:
###
###   /home/biocbuild/bbs-3.14-bioc/R/bin/R CMD INSTALL RNAseqData.HNRNPC.bam.chr14
###
##############################################################################
##############################################################################


* installing to library ‘/home/biocbuild/bbs-3.14-bioc/R/library’
* installing *source* package ‘RNAseqData.HNRNPC.bam.chr14’ ...
** using staged installation
** R
** inst
** byte-compile and prepare package for lazy loading
** help
*** installing help indices
** building package indices
** testing if installed package can be loaded from temporary location
** testing if installed package can be loaded from final location
** testing if installed package keeps a record of temporary installation path
* DONE (RNAseqData.HNRNPC.bam.chr14)

Tests output


Example timings

RNAseqData.HNRNPC.bam.chr14.Rcheck/RNAseqData.HNRNPC.bam.chr14-Ex.timings

nameusersystemelapsed
RNAseqData.HNRNPC.bam.chr14-package10.801 0.41211.214