Back to Build/check report for BioC 3.14 experimental data
ABCDEFGHIJKLMNOPQ[R]STUVWXYZ

This page was generated on 2021-10-19 15:52:18 -0400 (Tue, 19 Oct 2021).

BUILD results for RNAmodR.Data on nebbiolo2

To the developers/maintainers of the RNAmodR.Data package:
Make sure to use the following settings in order to reproduce any error or warning you see on this page.

raw results

Package 309/404HostnameOS / ArchINSTALLBUILDCHECK
RNAmodR.Data 1.7.0  (landing page)
Felix G.M. Ernst
Snapshot Date: 2021-10-19 09:30:02 -0400 (Tue, 19 Oct 2021)
git_url: https://git.bioconductor.org/packages/RNAmodR.Data
git_branch: master
git_last_commit: 43f6dbd
git_last_commit_date: 2021-05-19 12:08:38 -0400 (Wed, 19 May 2021)
nebbiolo2Linux (Ubuntu 20.04.2 LTS) / x86_64  OK    OK    OK  UNNEEDED, same version is already published

Summary

Package: RNAmodR.Data
Version: 1.7.0
Command: /home/biocbuild/bbs-3.14-bioc/R/bin/R CMD build --keep-empty-dirs --no-resave-data RNAmodR.Data
StartedAt: 2021-10-19 11:32:20 -0400 (Tue, 19 Oct 2021)
EndedAt: 2021-10-19 11:33:20 -0400 (Tue, 19 Oct 2021)
EllapsedTime: 60.0 seconds
RetCode: 0
Status:   OK  
PackageFile: RNAmodR.Data_1.7.0.tar.gz
PackageFileSize: 289.8 KiB

Command output

##############################################################################
##############################################################################
###
### Running command:
###
###   /home/biocbuild/bbs-3.14-bioc/R/bin/R CMD build --keep-empty-dirs --no-resave-data RNAmodR.Data
###
##############################################################################
##############################################################################


* checking for file ‘RNAmodR.Data/DESCRIPTION’ ... OK
* preparing ‘RNAmodR.Data’:
* checking DESCRIPTION meta-information ... OK
* installing the package to build vignettes
* creating vignettes ... OK
* checking for LF line-endings in source and make files and shell scripts
* checking for empty or unneeded directories
Omitted ‘LazyData’ from DESCRIPTION
* building ‘RNAmodR.Data_1.7.0.tar.gz’