Back to Build/check report for BioC 3.14 experimental data
ABCDEFGHIJKLMNOPQ[R]STUVWXYZ

This page was generated on 2021-10-23 15:51:47 -0400 (Sat, 23 Oct 2021).

BUILD results for RNAinteractMAPK on nebbiolo2

To the developers/maintainers of the RNAinteractMAPK package:
Make sure to use the following settings in order to reproduce any error or warning you see on this page.

raw results

Package 311/408HostnameOS / ArchINSTALLBUILDCHECK
RNAinteractMAPK 1.31.0  (landing page)
Mike Smith
Snapshot Date: 2021-10-23 09:30:01 -0400 (Sat, 23 Oct 2021)
git_url: https://git.bioconductor.org/packages/RNAinteractMAPK
git_branch: master
git_last_commit: 3e48430
git_last_commit_date: 2021-05-19 12:11:25 -0400 (Wed, 19 May 2021)
nebbiolo2Linux (Ubuntu 20.04.2 LTS) / x86_64  OK    OK    OK  UNNEEDED, same version is already published

Summary

Package: RNAinteractMAPK
Version: 1.31.0
Command: /home/biocbuild/bbs-3.14-bioc/R/bin/R CMD build --keep-empty-dirs --no-resave-data RNAinteractMAPK
StartedAt: 2021-10-23 11:32:59 -0400 (Sat, 23 Oct 2021)
EndedAt: 2021-10-23 11:34:25 -0400 (Sat, 23 Oct 2021)
EllapsedTime: 85.6 seconds
RetCode: 0
Status:   OK  
PackageFile: RNAinteractMAPK_1.31.0.tar.gz
PackageFileSize: 9.168 MiB

Command output

##############################################################################
##############################################################################
###
### Running command:
###
###   /home/biocbuild/bbs-3.14-bioc/R/bin/R CMD build --keep-empty-dirs --no-resave-data RNAinteractMAPK
###
##############################################################################
##############################################################################


* checking for file ‘RNAinteractMAPK/DESCRIPTION’ ... OK
* preparing ‘RNAinteractMAPK’:
* checking DESCRIPTION meta-information ... OK
* installing the package to build vignettes
* creating vignettes ... OK
* checking for LF line-endings in source and make files and shell scripts
* checking for empty or unneeded directories
* looking to see if a ‘data/datalist’ file should be added
* building ‘RNAinteractMAPK_1.31.0.tar.gz’