Back to Build/check report for BioC 3.14 experimental data
ABCDEFGHIJKLMNOPQ[R]STUVWXYZ

This page was generated on 2021-10-16 15:51:45 -0400 (Sat, 16 Oct 2021).

All results for package RNASeqRData

To the developers/maintainers of the RNASeqRData package:
Make sure to use the following settings in order to reproduce any error or warning you see on this page.

raw results

Package 311/404HostnameOS / ArchINSTALLBUILDCHECK
RNASeqRData 1.11.0  (landing page)
Kuan-Hao Chao
Snapshot Date: 2021-10-16 09:30:02 -0400 (Sat, 16 Oct 2021)
git_url: https://git.bioconductor.org/packages/RNASeqRData
git_branch: master
git_last_commit: 1245b0a
git_last_commit_date: 2021-05-19 12:06:17 -0400 (Wed, 19 May 2021)
nebbiolo2Linux (Ubuntu 20.04.2 LTS) / x86_64  OK    OK    OK  UNNEEDED, same version is already published