Back to Build/check report for BioC 3.14 experimental data
ABCDEFGHIJKLMNOPQ[R]STUVWXYZ

This page was generated on 2021-10-21 15:52:03 -0400 (Thu, 21 Oct 2021).

All results for package RMassBankData

To the developers/maintainers of the RMassBankData package:
Make sure to use the following settings in order to reproduce any error or warning you see on this page.

raw results

Package 308/406HostnameOS / ArchINSTALLBUILDCHECK
RMassBankData 1.31.1  (landing page)
Michael Stravs, Emma Schymanski
Snapshot Date: 2021-10-21 09:30:01 -0400 (Thu, 21 Oct 2021)
git_url: https://git.bioconductor.org/packages/RMassBankData
git_branch: master
git_last_commit: 8f6c03e
git_last_commit_date: 2021-07-05 05:16:51 -0400 (Mon, 05 Jul 2021)
nebbiolo2Linux (Ubuntu 20.04.2 LTS) / x86_64  OK    OK    OK  UNNEEDED, same version is already published