Back to Build/check report for BioC 3.14 experimental data
ABCDEFGHIJKLMNOPQ[R]STUVWXYZ

This page was generated on 2021-10-23 15:51:47 -0400 (Sat, 23 Oct 2021).

BUILD results for RGMQLlib on nebbiolo2

To the developers/maintainers of the RGMQLlib package:
Make sure to use the following settings in order to reproduce any error or warning you see on this page.

raw results

Package 306/408HostnameOS / ArchINSTALLBUILDCHECK
RGMQLlib 1.13.0  (landing page)
Simone Pallotta
Snapshot Date: 2021-10-23 09:30:01 -0400 (Sat, 23 Oct 2021)
git_url: https://git.bioconductor.org/packages/RGMQLlib
git_branch: master
git_last_commit: d93776c
git_last_commit_date: 2021-05-19 12:02:47 -0400 (Wed, 19 May 2021)
nebbiolo2Linux (Ubuntu 20.04.2 LTS) / x86_64  OK    OK    OK  UNNEEDED, same version is already published

Summary

Package: RGMQLlib
Version: 1.13.0
Command: /home/biocbuild/bbs-3.14-bioc/R/bin/R CMD build --keep-empty-dirs --no-resave-data RGMQLlib
StartedAt: 2021-10-23 11:32:38 -0400 (Sat, 23 Oct 2021)
EndedAt: 2021-10-23 11:32:47 -0400 (Sat, 23 Oct 2021)
EllapsedTime: 8.7 seconds
RetCode: 0
Status:   OK  
PackageFile: RGMQLlib_1.13.0.tar.gz
PackageFileSize: 86.08 MiB

Command output

##############################################################################
##############################################################################
###
### Running command:
###
###   /home/biocbuild/bbs-3.14-bioc/R/bin/R CMD build --keep-empty-dirs --no-resave-data RGMQLlib
###
##############################################################################
##############################################################################


* checking for file ‘RGMQLlib/DESCRIPTION’ ... OK
* preparing ‘RGMQLlib’:
* checking DESCRIPTION meta-information ... OK
* installing the package to build vignettes
* creating vignettes ... OK
* checking for LF line-endings in source and make files and shell scripts
* checking for empty or unneeded directories
Omitted ‘LazyData’ from DESCRIPTION
* building ‘RGMQLlib_1.13.0.tar.gz’