Back to Build/check report for BioC 3.14 experimental data
ABCDEFGHIJKLMNOPQ[R]STUVWXYZ

This page was generated on 2021-10-26 15:52:18 -0400 (Tue, 26 Oct 2021).

All results for package RGMQLlib

To the developers/maintainers of the RGMQLlib package:
Make sure to use the following settings in order to reproduce any error or warning you see on this page.

raw results

Package 306/408HostnameOS / ArchINSTALLBUILDCHECK
RGMQLlib 1.13.0  (landing page)
Simone Pallotta
Snapshot Date: 2021-10-26 09:30:02 -0400 (Tue, 26 Oct 2021)
git_url: https://git.bioconductor.org/packages/RGMQLlib
git_branch: master
git_last_commit: d93776c
git_last_commit_date: 2021-05-19 12:02:47 -0400 (Wed, 19 May 2021)
nebbiolo2Linux (Ubuntu 20.04.2 LTS) / x86_64  OK    OK    OK  UNNEEDED, same version is already published