Back to Build/check report for BioC 3.14 experimental data
ABCDEFGHIJKLMNOP[Q]RSTUVWXYZ

This page was generated on 2021-12-01 18:35:25 -0500 (Wed, 01 Dec 2021).

BUILD results for QUBICdata on nebbiolo2

To the developers/maintainers of the QUBICdata package:
Make sure to use the following settings in order to reproduce any error or warning you see on this page.

raw results

Package 299/408HostnameOS / ArchINSTALLBUILDCHECK
QUBICdata 1.22.0  (landing page)
Yu Zhang
Snapshot Date: 2021-12-01 08:30:01 -0500 (Wed, 01 Dec 2021)
git_url: https://git.bioconductor.org/packages/QUBICdata
git_branch: RELEASE_3_14
git_last_commit: 00f01b1
git_last_commit_date: 2021-10-26 12:23:17 -0500 (Tue, 26 Oct 2021)
nebbiolo2Linux (Ubuntu 20.04.3 LTS) / x86_64  OK    OK    OK  UNNEEDED, same version is already published

Summary

Package: QUBICdata
Version: 1.22.0
Command: /home/biocbuild/bbs-3.14-bioc/R/bin/R CMD build --keep-empty-dirs --no-resave-data QUBICdata
StartedAt: 2021-12-01 14:31:48 -0500 (Wed, 01 Dec 2021)
EndedAt: 2021-12-01 14:31:52 -0500 (Wed, 01 Dec 2021)
EllapsedTime: 3.8 seconds
RetCode: 0
Status:   OK  
PackageFile: QUBICdata_1.22.0.tar.gz
PackageFileSize: 9.844 MiB

Command output

##############################################################################
##############################################################################
###
### Running command:
###
###   /home/biocbuild/bbs-3.14-bioc/R/bin/R CMD build --keep-empty-dirs --no-resave-data QUBICdata
###
##############################################################################
##############################################################################


* checking for file ‘QUBICdata/DESCRIPTION’ ... OK
* preparing ‘QUBICdata’:
* checking DESCRIPTION meta-information ... OK
* installing the package to build vignettes
* creating vignettes ... OK
* checking for LF line-endings in source and make files and shell scripts
* checking for empty or unneeded directories
* looking to see if a ‘data/datalist’ file should be added
* building ‘QUBICdata_1.22.0.tar.gz’